BEGIN:VCALENDAR
VERSION:2.0
PRODID:-//Railhobby - ECPv6.7.0//NONSGML v1.0//EN
CALSCALE:GREGORIAN
METHOD:PUBLISH
X-WR-CALNAME:Railhobby
X-ORIGINAL-URL:https://www.railhobby.nl
X-WR-CALDESC:Evenementen voor Railhobby
REFRESH-INTERVAL;VALUE=DURATION:PT1H
X-Robots-Tag:noindex
X-PUBLISHED-TTL:PT1H
BEGIN:VTIMEZONE
TZID:Europe/Amsterdam
BEGIN:DAYLIGHT
TZOFFSETFROM:+0100
TZOFFSETTO:+0200
TZNAME:CEST
DTSTART:20250330T010000
END:DAYLIGHT
BEGIN:STANDARD
TZOFFSETFROM:+0200
TZOFFSETTO:+0100
TZNAME:CET
DTSTART:20251026T010000
END:STANDARD
END:VTIMEZONE
BEGIN:VEVENT
DTSTART;TZID=Europe/Amsterdam:20251031T090000
DTEND;TZID=Europe/Amsterdam:20251102T170000
DTSTAMP:20260425T055045
CREATED:20250523T145120Z
LAST-MODIFIED:20250523T145120Z
UID:28159-1761901200-1762102800@www.railhobby.nl
SUMMARY:De Faszination Modellbau 2025
DESCRIPTION:De Faszination Modellbau 2025 is ’s werelds grootste beurs voor functioneel modelbouwen\, modelspoorbanen en stoommachines. Van 31 oktober tot en met 2 november komen exposanten en bezoekers uit de hele wereld samen in het drielandenpunt aan de Bodensee\, op een terrein van maar liefst 70.000 m². Bezoekers kunnen genieten van spectaculaire demonstraties en meedoen aan interactieve activiteiten voor jong en oud. Een aanrader voor modelbouwliefhebbers en gezinnen! \n 
URL:https://www.railhobby.nl/evenement/de-faszination-modellbau-2025/
LOCATION:Messe Sinsheim GmbH\, Neue Messe 1\, Friedrichshafen\, 88046
CATEGORIES:Beurs
END:VEVENT
BEGIN:VEVENT
DTSTART;TZID=Europe/Amsterdam:20251122T100000
DTEND;TZID=Europe/Amsterdam:20251123T160000
DTSTAMP:20260425T055045
CREATED:20250428T095828Z
LAST-MODIFIED:20250428T100059Z
UID:27984-1763805600-1763913600@www.railhobby.nl
SUMMARY:Spoorgroep Zuid
DESCRIPTION:Spoorgroep Zuid is uitgegroeid tot het grootste modelspoor evenement van zuid Nederland. Dit jaar zijn zij te gast in Helmond.\nLocatie Carolus Borromeus College aan de Markesingel 2. Nog geen 200 meter lopen van station Helmond Brandevoort.\nMet onder andere modelbanen uit binnen- en buitenland\, verkoopbeurs (veel standmeters)\, workshops/lezingen\, demo’s en een speelhoek voor de kinderen. \nHet evenement zal plaatsvinden op:\n– zaterdag 22 november van 10:00u tot 17:00u.\n– zondag 23 november van 10:00u tot 16:00u. \nEntree prijs is voor volwassenen 7 euro. Kinderen tot en met 12 jaar zijn gratis.
URL:https://www.railhobby.nl/evenement/spoorgroep-zuid/
LOCATION:Carolus Borromeus College\, Markesingel 2\, Helmond\, 5707 DJ
CATEGORIES:Beurs,Evenement
ATTACH;FMTTYPE=image/jpeg:https://www.railhobby.nl/wp-content/uploads/2025/04/Affiche-e1745834393840.jpg
END:VEVENT
BEGIN:VEVENT
DTSTART;TZID=Europe/Amsterdam:20251129T100000
DTEND;TZID=Europe/Amsterdam:20251130T180000
DTSTAMP:20260425T055045
CREATED:20250617T092603Z
LAST-MODIFIED:20250617T092603Z
UID:28254-1764410400-1764525600@www.railhobby.nl
SUMMARY:Euromodelbouw 2025
DESCRIPTION:Op EUROMODELBOUW 2025 kan iedereen wegdromen op de grootste modelbouwbeurs van de Benelux. Na de overweldigende topeditie van vorige maal nu nog groter en mooier. In de Limburghal te Genk maken honderden stands met treinen\, boten\, trucks\, drones\, vliegtuigen\, auto’s\, duikboten\, helikopters\, tanks\, grondverzetters\, kranen\, er een waar feest van. \nDe vele duizenden bezoekers zullen er kunnen genieten van alle facetten van de modelbouw. Als volleerd piloot mogen ze zelf de knoppen bedienen en er met R/C modellen varen\, rijden en vliegen. Iedereen kan zijn kindertijd her/beleven en genieten van ongelooflijke Treinbanen\, Lego-creaties\, kermissen\, circussen\, meccano\, Fisher technic\, papier- en lucifer modelbouw en poppenhuizen. \nOok de modeltrein liefhebbers zullen op deze nieuwe editie smullen bij het aanschouwen van de werkende modeltreinbanen uit verschillende landen en in diverse schalen. Daarnaast zijn de meeste producenten van modeltreinen en scenery-materialen aanwezig. Voor de echte liefhebber is er ook de grote internationale verkoop- en 2de-handsbeurs.\nOnze happening voor groot en klein trekt standhouders uit gans Europa
URL:https://www.railhobby.nl/evenement/euromodelbouw-2025/
LOCATION:Limburghal\, Jaarbeurslaan 6\, Genk\, 3600\, België
CATEGORIES:Beurs
ORGANIZER;CN="Euromodelbouw":MAILTO:info@euromodelbouw.be
END:VEVENT
END:VCALENDAR