BEGIN:VCALENDAR
VERSION:2.0
PRODID:-//Railhobby - ECPv6.7.0//NONSGML v1.0//EN
CALSCALE:GREGORIAN
METHOD:PUBLISH
X-WR-CALNAME:Railhobby
X-ORIGINAL-URL:https://www.railhobby.nl
X-WR-CALDESC:Evenementen voor Railhobby
REFRESH-INTERVAL;VALUE=DURATION:PT1H
X-Robots-Tag:noindex
X-PUBLISHED-TTL:PT1H
BEGIN:VTIMEZONE
TZID:Europe/Amsterdam
BEGIN:DAYLIGHT
TZOFFSETFROM:+0100
TZOFFSETTO:+0200
TZNAME:CEST
DTSTART:20250330T010000
END:DAYLIGHT
BEGIN:STANDARD
TZOFFSETFROM:+0200
TZOFFSETTO:+0100
TZNAME:CET
DTSTART:20251026T010000
END:STANDARD
END:VTIMEZONE
BEGIN:VEVENT
DTSTART;TZID=Europe/Amsterdam:20251025T100000
DTEND;TZID=Europe/Amsterdam:20251026T150000
DTSTAMP:20260425T130300
CREATED:20250924T124131Z
LAST-MODIFIED:20250924T124131Z
UID:28670-1761386400-1761490800@www.railhobby.nl
SUMMARY:Modelspoor en Modelbouwbeurs
DESCRIPTION:De Westfriese Modelspoorclub\, organiseert op 25 en 26 oktober een Modelspoor en Modelbouwbeurs\, met o.a. diverse rijdende modelspoorbanen uit binnen en buitenland\,\nverkoopbeurs en activiteiten voor kinderen. De beurs vindt in de Koggenhal\, Dwingel 4\, De Goorn plaats.
URL:https://www.railhobby.nl/evenement/modelspoor-en-modelbouwbeurs/
LOCATION:Koggenhal de Goorn\, Dwingel 4\, De Goorn\, 1648JM\, Nederland
CATEGORIES:Beurs
END:VEVENT
BEGIN:VEVENT
DTSTART;TZID=Europe/Amsterdam:20251026T100000
DTEND;TZID=Europe/Amsterdam:20251026T160000
DTSTAMP:20260425T130300
CREATED:20250811T103606Z
LAST-MODIFIED:20250811T103645Z
UID:28484-1761472800-1761494400@www.railhobby.nl
SUMMARY:33e Internationale Modelspoor Ruilbeurs
DESCRIPTION:Op zondag 26 oktober 2025 organiseert Module-Club Luxembourg de 33e editie van de internationale modelspoor ruilbeurs in Steinsel. Van 10.00 tot 16.00 uur vind je in het Centre de Loisirs “Norbert Melcher” modellen\, toebehoren\, literatuur en video’s in diverse schalen (H0\, N\, 0\, G) van exposanten uit 5 landen.
URL:https://www.railhobby.nl/evenement/33e-internationale-modelspoor-ruilbeurs/
LOCATION:Centre de loisirs – Nobert Melcher\, rue de l ́Alzette 62\, Steinsel\, Luxembourg
CATEGORIES:Beurs
ORGANIZER;CN="Module-Club Luxembourg":MAILTO:info@module-club.lu
END:VEVENT
END:VCALENDAR