BEGIN:VCALENDAR
VERSION:2.0
PRODID:-//Railhobby - ECPv6.7.0//NONSGML v1.0//EN
CALSCALE:GREGORIAN
METHOD:PUBLISH
X-ORIGINAL-URL:https://www.railhobby.nl
X-WR-CALDESC:Evenementen voor Railhobby
REFRESH-INTERVAL;VALUE=DURATION:PT1H
X-Robots-Tag:noindex
X-PUBLISHED-TTL:PT1H
BEGIN:VTIMEZONE
TZID:Europe/Amsterdam
BEGIN:DAYLIGHT
TZOFFSETFROM:+0100
TZOFFSETTO:+0200
TZNAME:CEST
DTSTART:20260329T010000
END:DAYLIGHT
BEGIN:STANDARD
TZOFFSETFROM:+0200
TZOFFSETTO:+0100
TZNAME:CET
DTSTART:20261025T010000
END:STANDARD
END:VTIMEZONE
BEGIN:VEVENT
DTSTART;TZID=Europe/Amsterdam:20260913T100000
DTEND;TZID=Europe/Amsterdam:20260913T140000
DTSTAMP:20260425T143052
CREATED:20260209T105353Z
LAST-MODIFIED:20260209T105353Z
UID:29099-1789293600-1789308000@www.railhobby.nl
SUMMARY:H0-ruilbeurs
DESCRIPTION:Vier keer per jaar vindt in Eefde een unieke ruilbeurs plaats voor liefhebbers van modelauto’s in schaal 1:87 (H0). De ruilbeurzen van de H0 Modelautoclub Nederland staan bekend om het grootste en meest gevarieerde aanbod H0 modelauto’s van het land en trekken bezoekers en aanbieders uit Nederland\, België en Duitsland. \nNaast een uitgebreid aanbod modelauto’s zijn er ook accessoires\, decals\, voorbeeldfoto’s en onderdelen te vinden voor verzamelaars én bouwers. De beurs onderscheidt zich door het gezellige clubkarakter en de internationale sfeer; regelmatig zijn er ook aanbieders uit andere Europese landen aanwezig.
URL:https://www.railhobby.nl/evenement/h0-ruilbeurs-3/
LOCATION:Sporthal De Stuw\, Bargeweg 5\, Eefde\, Gelderland\, 7211 DC\, Netherlands
CATEGORIES:Beurs,Evenement
ATTACH;FMTTYPE=image/jpeg:https://www.railhobby.nl/wp-content/uploads/2026/02/Flyer2026_2.jpg
ORGANIZER;CN="HO-Modelautoclub":MAILTO:ruilbeurs@ho-modelautoclub.nl
END:VEVENT
BEGIN:VEVENT
DTSTART;TZID=Europe/Amsterdam:20261030T090000
DTEND;TZID=Europe/Amsterdam:20261101T180000
DTSTAMP:20260425T143052
CREATED:20260409T081641Z
LAST-MODIFIED:20260409T081641Z
UID:29257-1793350800-1793556000@www.railhobby.nl
SUMMARY:Faszination Modellbau Friedrichshafen 2026
DESCRIPTION:Van 30 oktober tot en met 1 november 2026 verandert de Messe Friedrichshafen weer in het Europese middelpunt voor modelbouw. Het evenement combineert drie grote beurzen: Faszination Modellbau\, de Internationale Modellbahn-Ausstellung en het Echtdampf-Hallentreffen. \nWat kun je verwachten?\n\n\nGroot aanbod: Op 70.000 m² presenteren fabrikanten en speciaalzaken alle denkbare disciplines\, van treinen en schepen tot vliegtuigen\, RC-auto’s en indrukwekkende stoommodellen. \n\n\nActie & Spektakel: Hoogtepunten zijn de diverse vliegshows (binnen en buiten)\, de FPV Drone Championship en de German Open RC-Car Masters. \n\n\nInteractie: Bezoekers kunnen scheepsmodellen bewonderen op de beursmeren en live getuige zijn van miniatuur stoommachines in actie. \n\n\nDankzij de locatie in het drielandenpunt (Duitsland\, Zwitserland\, Oostenrijk) blijft deze beurs een essentieel trefpunt voor zowel professionals als hobbyisten die op zoek zijn naar inspiratie\, techniek en vakmanschap.
URL:https://www.railhobby.nl/evenement/faszination-modellbau-friedrichshafen-2026/
LOCATION:Messe Friedrichshafen\, Neue Messe 1\, Friedrichshafen\, 88046\, Duitsland
CATEGORIES:Beurs
END:VEVENT
BEGIN:VEVENT
DTSTART;TZID=Europe/Amsterdam:20261213T100000
DTEND;TZID=Europe/Amsterdam:20261213T140000
DTSTAMP:20260425T143052
CREATED:20260209T105551Z
LAST-MODIFIED:20260209T105551Z
UID:29101-1797156000-1797170400@www.railhobby.nl
SUMMARY:H0-ruilbeurs
DESCRIPTION:Vier keer per jaar vindt in Eefde een unieke ruilbeurs plaats voor liefhebbers van modelauto’s in schaal 1:87 (H0). De ruilbeurzen van de H0 Modelautoclub Nederland staan bekend om het grootste en meest gevarieerde aanbod H0 modelauto’s van het land en trekken bezoekers en aanbieders uit Nederland\, België en Duitsland. \nNaast een uitgebreid aanbod modelauto’s zijn er ook accessoires\, decals\, voorbeeldfoto’s en onderdelen te vinden voor verzamelaars én bouwers. De beurs onderscheidt zich door het gezellige clubkarakter en de internationale sfeer; regelmatig zijn er ook aanbieders uit andere Europese landen aanwezig.
URL:https://www.railhobby.nl/evenement/h0-ruilbeurs-4/
LOCATION:Sporthal De Stuw\, Bargeweg 5\, Eefde\, Gelderland\, 7211 DC\, Netherlands
CATEGORIES:Beurs,Evenement
ATTACH;FMTTYPE=image/jpeg:https://www.railhobby.nl/wp-content/uploads/2026/02/Flyer2026_2.jpg
ORGANIZER;CN="HO-Modelautoclub":MAILTO:ruilbeurs@ho-modelautoclub.nl
END:VEVENT
END:VCALENDAR