BEGIN:VCALENDAR
VERSION:2.0
PRODID:-//Railhobby - ECPv6.7.0//NONSGML v1.0//EN
CALSCALE:GREGORIAN
METHOD:PUBLISH
X-WR-CALNAME:Railhobby
X-ORIGINAL-URL:https://www.railhobby.nl
X-WR-CALDESC:Evenementen voor Railhobby
REFRESH-INTERVAL;VALUE=DURATION:PT1H
X-Robots-Tag:noindex
X-PUBLISHED-TTL:PT1H
BEGIN:VTIMEZONE
TZID:Europe/Amsterdam
BEGIN:DAYLIGHT
TZOFFSETFROM:+0100
TZOFFSETTO:+0200
TZNAME:CEST
DTSTART:20250330T010000
END:DAYLIGHT
BEGIN:STANDARD
TZOFFSETFROM:+0200
TZOFFSETTO:+0100
TZNAME:CET
DTSTART:20251026T010000
END:STANDARD
END:VTIMEZONE
BEGIN:VEVENT
DTSTART;TZID=Europe/Amsterdam:20251031T100000
DTEND;TZID=Europe/Amsterdam:20251102T170000
DTSTAMP:20260425T035035
CREATED:20250717T133633Z
LAST-MODIFIED:20250717T133633Z
UID:28400-1761904800-1762102800@www.railhobby.nl
SUMMARY:Faszination Modellbau Friedrichshafen 2025
DESCRIPTION:Van 31 oktober tot en met 2 november 2025 staat de regio rond de Bodensee weer volledig in het teken van modelbouw tijdens Faszination Modellbau Friedrichshafen. Dit toonaangevende evenement combineert een breed aanbod aan modelbouwdisciplines met drie grote publiekstrekkers: het Echtdampf-Hallentreffen\, de LEGO-fanexpo en spectaculaire vliegshows op het vliegveldterrein. \nBezoekers kunnen genieten van dynamische demonstraties met RC-auto’s\, drones\, vliegtuigen en boten\, indrukwekkende truckparcoursen en een indoor vliegshow. Daarnaast is er volop ruimte voor plastic modelbouw\, diorama’s\, liveworkshops en jubileumexposities. Jong en oud kunnen zelf aan de slag op interactieve doe-pleinen. \nHoogtepunt is het Echtdampf-Hallentreffen\, met een werkend stoomnetwerk van 4 kilometer en berijdbare miniatuurtreinen. Ook de LEGO-wereld keert groots terug\, met meesterlijke bouwwerken én creatieve meebouwplekken voor kinderen. \nKortom: drie dagen vol actie\, techniek\, nostalgie en verbeeldingskracht – een must voor liefhebbers én families.
URL:https://www.railhobby.nl/evenement/faszination-modellbau-friedrichshafen-2025/
LOCATION:P. E. Schall GmbH & Co. KG\, Gustav-Werner-Straße 6 D\, Frickenhausen\, 72636\, Germany
CATEGORIES:Evenement
END:VEVENT
BEGIN:VEVENT
DTSTART;TZID=Europe/Amsterdam:20251115T100000
DTEND;TZID=Europe/Amsterdam:20251116T170000
DTSTAMP:20260425T035035
CREATED:20251015T133939Z
LAST-MODIFIED:20251015T133939Z
UID:28721-1763200800-1763312400@www.railhobby.nl
SUMMARY:De Noordelijke Spoor- en Modelbouwdagen
DESCRIPTION:De Noordelijke Spoor- en Modelbouwdagen vinden zoals gebruikelijk plaats in de Sorghvliethal in Veendam. De dagen staan in het teken van modelbouw in de meest brede zin van het woord en richten zich op jong en oud. \nNaast uitgebreide treinbanen van verschillende modelbouwverenigingen zullen er ook\ndemonstraties te zien zijn van model(vracht-)auto’s\, en -schepen. Bij een groot aantal stands (180 mtr2) worden nieuwe en gebruikte modelbouwartikelen te koop aangeboden. De openingstijden zijn dagelijks van 10.00 uur tot 17.00 uur. De entreeprijzen bedragen € 8\,00 voor volwassenen en € 2\,50 voor kinderen (4 t/m 12). De Noordelijke Spoor- en Modelbouwdagen worden georganiseerd door de Model Rail Groep Veendam.
URL:https://www.railhobby.nl/evenement/de-noordelijke-spoor-en-modelbouwdagen-2/
LOCATION:Sorghvliethal\, Jan Salwaplein 1\, Veendam\, 9641 NL\, Nederland
CATEGORIES:Evenement
END:VEVENT
BEGIN:VEVENT
DTSTART;TZID=Europe/Amsterdam:20251122T100000
DTEND;TZID=Europe/Amsterdam:20251123T160000
DTSTAMP:20260425T035035
CREATED:20250428T095828Z
LAST-MODIFIED:20250428T100059Z
UID:27984-1763805600-1763913600@www.railhobby.nl
SUMMARY:Spoorgroep Zuid
DESCRIPTION:Spoorgroep Zuid is uitgegroeid tot het grootste modelspoor evenement van zuid Nederland. Dit jaar zijn zij te gast in Helmond.\nLocatie Carolus Borromeus College aan de Markesingel 2. Nog geen 200 meter lopen van station Helmond Brandevoort.\nMet onder andere modelbanen uit binnen- en buitenland\, verkoopbeurs (veel standmeters)\, workshops/lezingen\, demo’s en een speelhoek voor de kinderen. \nHet evenement zal plaatsvinden op:\n– zaterdag 22 november van 10:00u tot 17:00u.\n– zondag 23 november van 10:00u tot 16:00u. \nEntree prijs is voor volwassenen 7 euro. Kinderen tot en met 12 jaar zijn gratis.
URL:https://www.railhobby.nl/evenement/spoorgroep-zuid/
LOCATION:Carolus Borromeus College\, Markesingel 2\, Helmond\, 5707 DJ
CATEGORIES:Beurs,Evenement
ATTACH;FMTTYPE=image/jpeg:https://www.railhobby.nl/wp-content/uploads/2025/04/Affiche-e1745834393840.jpg
END:VEVENT
END:VCALENDAR