BEGIN:VCALENDAR
VERSION:2.0
PRODID:-//Railhobby - ECPv6.7.0//NONSGML v1.0//EN
CALSCALE:GREGORIAN
METHOD:PUBLISH
X-WR-CALNAME:Railhobby
X-ORIGINAL-URL:https://www.railhobby.nl
X-WR-CALDESC:Evenementen voor Railhobby
REFRESH-INTERVAL;VALUE=DURATION:PT1H
X-Robots-Tag:noindex
X-PUBLISHED-TTL:PT1H
BEGIN:VTIMEZONE
TZID:Europe/Amsterdam
BEGIN:DAYLIGHT
TZOFFSETFROM:+0100
TZOFFSETTO:+0200
TZNAME:CEST
DTSTART:20250330T010000
END:DAYLIGHT
BEGIN:STANDARD
TZOFFSETFROM:+0200
TZOFFSETTO:+0100
TZNAME:CET
DTSTART:20251026T010000
END:STANDARD
BEGIN:DAYLIGHT
TZOFFSETFROM:+0100
TZOFFSETTO:+0200
TZNAME:CEST
DTSTART:20260329T010000
END:DAYLIGHT
BEGIN:STANDARD
TZOFFSETFROM:+0200
TZOFFSETTO:+0100
TZNAME:CET
DTSTART:20261025T010000
END:STANDARD
END:VTIMEZONE
BEGIN:VEVENT
DTSTART;TZID=Europe/Amsterdam:20251122T100000
DTEND;TZID=Europe/Amsterdam:20251123T160000
DTSTAMP:20260425T151931
CREATED:20250428T095828Z
LAST-MODIFIED:20250428T100059Z
UID:27984-1763805600-1763913600@www.railhobby.nl
SUMMARY:Spoorgroep Zuid
DESCRIPTION:Spoorgroep Zuid is uitgegroeid tot het grootste modelspoor evenement van zuid Nederland. Dit jaar zijn zij te gast in Helmond.\nLocatie Carolus Borromeus College aan de Markesingel 2. Nog geen 200 meter lopen van station Helmond Brandevoort.\nMet onder andere modelbanen uit binnen- en buitenland\, verkoopbeurs (veel standmeters)\, workshops/lezingen\, demo’s en een speelhoek voor de kinderen. \nHet evenement zal plaatsvinden op:\n– zaterdag 22 november van 10:00u tot 17:00u.\n– zondag 23 november van 10:00u tot 16:00u. \nEntree prijs is voor volwassenen 7 euro. Kinderen tot en met 12 jaar zijn gratis.
URL:https://www.railhobby.nl/evenement/spoorgroep-zuid/
LOCATION:Carolus Borromeus College\, Markesingel 2\, Helmond\, 5707 DJ
CATEGORIES:Beurs,Evenement
ATTACH;FMTTYPE=image/jpeg:https://www.railhobby.nl/wp-content/uploads/2025/04/Affiche-e1745834393840.jpg
END:VEVENT
BEGIN:VEVENT
DTSTART;TZID=Europe/Amsterdam:20260124T100000
DTEND;TZID=Europe/Amsterdam:20260125T160000
DTSTAMP:20260425T151931
CREATED:20250910T143353Z
LAST-MODIFIED:20250910T143353Z
UID:28620-1769248800-1769356800@www.railhobby.nl
SUMMARY:Modelspoor weekend
DESCRIPTION:Het Modelspoor weekend vindt weer plaats op 24 en 25 januari 2026.
URL:https://www.railhobby.nl/evenement/modelspoor-weekend-3/
LOCATION:MFA ’t Hart\, Den Elt 17\, Ewijk\, 6644 EA
CATEGORIES:Evenement
ATTACH;FMTTYPE=image/png:https://www.railhobby.nl/wp-content/uploads/2025/09/Schermafbeelding-2025-09-10-163148.png
END:VEVENT
BEGIN:VEVENT
DTSTART;TZID=Europe/Amsterdam:20260209T100000
DTEND;TZID=Europe/Amsterdam:20260210T170000
DTSTAMP:20260425T151931
CREATED:20260129T115307Z
LAST-MODIFIED:20260129T115307Z
UID:29060-1770631200-1770742800@www.railhobby.nl
SUMMARY:Modeltreinen veiling
DESCRIPTION:Op vrijdag 13 en zaterdag 14 februari veilen wij vanaf 19.00 uur online een grote verzameling modeltreinen\, afkomstig van één eigenaar. Met bekende merken zoals Märklin\, Fleischmann\, Pico\, Roco en Trix. Analoog en digitaal. Het merendeel van deze verzameling bestaande uit locomotieven\, wagons en toebehoren zit nog nieuw in de doos. Duizenden locomotieven en wagons\, verdeeld over zo’n 800 kavels\, zijn nu al te bekijken in de catalogus modeltreinen op onze website. De catalogus wordt tot 6 februari nog dagelijks aangevuld. In de veiling ook een paar bijzondere exemplaren waaronder een Museums-Dampflokomotive 18 314\, een zeldzaam grote en gedetailleerde stoomlocomotief met een rookgenerator en diverse geluiden. En een Northlander trein 39750 die alleen maar beschikbaar werd gesteld aan leden van de Märklin club. \nDe kijkdagen zijn live te bezoeken in het Veilinghuis van Vendu Rotterdam op maandag 9 en dinsdag 10 februari van 10.00 tot 17.00 uur. De veiling vindt plaats online op 13 en 14 februari vanaf 19.00 uur.
URL:https://www.railhobby.nl/evenement/modeltreinen-veiling/
LOCATION:Vendu Rotterdam\, Kipstraat 54\, Rotterdam\, 3011RT
CATEGORIES:Evenement
ATTACH;FMTTYPE=image/jpeg:https://www.railhobby.nl/wp-content/uploads/2026/01/Banner-1200x628-incl-titel-en-info.jpg
ORGANIZER;CN="Veilinghuis Vendu Rotterdam":MAILTO:info@vendurotterdam.nl
END:VEVENT
BEGIN:VEVENT
DTSTART;TZID=Europe/Amsterdam:20260221T100000
DTEND;TZID=Europe/Amsterdam:20260221T150000
DTSTAMP:20260425T151931
CREATED:20260209T131216Z
LAST-MODIFIED:20260209T131216Z
UID:29103-1771668000-1771686000@www.railhobby.nl
SUMMARY:Modelspoorbeurs Groningen
DESCRIPTION:Zaterdag 21 februari is er weer een grote modelspoorbeurs in Groningen. Kom genieten van prachtige voorbeelden van modelspoor en modelbouw. Er zijn veel parkeerplaatsen beschikbaar (gratis). Er zijn volop standhouders die van alles aanbieden waarmee je jouw eigen treinbaan kan verfraaien. Van de organiserende Modelspoorclub Railrunners komen onder anderen Yoshi Stark met zijn Belgische module Trois Mont en Frits Westers met zijn 3D geprinte treinmodellen. Verder komen Erik Wierenga (scenery demo)\, Alexander den Hollander (Edoras Model Railroad)\, Johan Afman (N-baan)\, Hilbrandt Hakkert (demo Koploper) en Jaisu van Haarlem met zijn industriële H0-module Oude Maasweg. \nKinderen t/m 12 jaar zijn gratis.
URL:https://www.railhobby.nl/evenement/modelspoorbeurs-groningen-4/
LOCATION:De Stadskerk\, Friesestraatweg 221\, Groningen
CATEGORIES:Beurs,Evenement
ORGANIZER;CN="MSC Railrunners":MAILTO:railpost@mscrailrunners.eu
END:VEVENT
BEGIN:VEVENT
DTSTART;TZID=Europe/Amsterdam:20260308T100000
DTEND;TZID=Europe/Amsterdam:20260308T140000
DTSTAMP:20260425T151931
CREATED:20260209T104528Z
LAST-MODIFIED:20260209T105038Z
UID:29090-1772964000-1772978400@www.railhobby.nl
SUMMARY:H0-ruilbeurs
DESCRIPTION:Vier keer per jaar vindt in Eefde een unieke ruilbeurs plaats voor liefhebbers van modelauto’s in schaal 1:87 (H0). De ruilbeurzen van de H0 Modelautoclub Nederland staan bekend om het grootste en meest gevarieerde aanbod H0 modelauto’s van het land en trekken bezoekers en aanbieders uit Nederland\, België en Duitsland. \nNaast een uitgebreid aanbod modelauto’s zijn er ook accessoires\, decals\, voorbeeldfoto’s en onderdelen te vinden voor verzamelaars én bouwers. De beurs onderscheidt zich door het gezellige clubkarakter en de internationale sfeer; regelmatig zijn er ook aanbieders uit andere Europese landen aanwezig.
URL:https://www.railhobby.nl/evenement/h0-ruilbeurs/
LOCATION:Sporthal De Stuw\, Bargeweg 5\, Eefde\, Gelderland\, 7211 DC\, Netherlands
CATEGORIES:Beurs,Evenement
ATTACH;FMTTYPE=image/jpeg:https://www.railhobby.nl/wp-content/uploads/2026/02/Flyer2026_2.jpg
ORGANIZER;CN="HO-Modelautoclub":MAILTO:ruilbeurs@ho-modelautoclub.nl
END:VEVENT
BEGIN:VEVENT
DTSTART;TZID=Europe/Amsterdam:20260502T090000
DTEND;TZID=Europe/Amsterdam:20260503T170000
DTSTAMP:20260425T151931
CREATED:20260408T100804Z
LAST-MODIFIED:20260408T100804Z
UID:29255-1777712400-1777827600@www.railhobby.nl
SUMMARY:Stoomtreinfestival 2 en 3 mei Stoomtrein Maldegem-Eeklo
DESCRIPTION:Op zaterdag 2 en zondag 3 mei trapt Stoomtrein Maldegem-Eeklo het nieuwe rijseizoen feestelijk af met het jaarlijkse Stoomtreinfestival. Er zijn dit weekend meerdere stoomlocomotieven in actie\, waaronder de 75 jaar oude Belgische AD.09 uit van collegavereniging CF3V Mariembourg en de Duitse locomotief ‘Tom’ van Hoogovens IJmuiden. Ook onze eigen 100 jaar oude La Meuse ‘Bebert’ staat onder stoom. Wie wil\, kan zelf meerijden met stoom- of dieseltreinen richting Eeklo of genieten van ritten met de smalspoorstoomtrein. Verder is er een expo van spoorwegmaterieel\, een spoorwegbeurs met ook lego- en miniatuurtreinen. Natuurlijk is er ook aan eten en drinken gedacht.\n\nEen perfecte daguitstap voor gezinnen\, treinliefhebbers en iedereen die even terug wil in de tijd.
URL:https://www.railhobby.nl/evenement/stoomtreinfestival-2-en-3-mei-stoomtrein-maldegem-eeklo/
LOCATION:Stoomtrein Maldegem-Eeklo\, Stationsplein 8\, Maldegem\, Maldegem\, 9990\, Belgium
CATEGORIES:Evenement
END:VEVENT
BEGIN:VEVENT
DTSTART;TZID=Europe/Amsterdam:20260509T080000
DTEND;TZID=Europe/Amsterdam:20260509T170000
DTSTAMP:20260425T151931
CREATED:20260303T075229Z
LAST-MODIFIED:20260303T075229Z
UID:29178-1778313600-1778346000@www.railhobby.nl
SUMMARY:Speciale NVBS95-dag
DESCRIPTION:Op 9 mei 2026 vindt er een speciale NVBS95-dag in Miniworld Rotterdam. In samenwerking met NVBS\, ROVM en 24trains.tv.\nTijdens deze dag vindt de lancering plaats van een bijzondere NVBS95-mast\, een bijzondere locomotief\, een bijzondere tramrit\, een bijzonder bezoek aan Miniworld Rotterdam en ROVM.
URL:https://www.railhobby.nl/evenement/speciale-nvbs95-dag/
LOCATION:Miniworld Rotterdam\, Weena 745\, Rotterdam\, 3013 AL
CATEGORIES:Evenement
END:VEVENT
BEGIN:VEVENT
DTSTART;TZID=Europe/Amsterdam:20260614T100000
DTEND;TZID=Europe/Amsterdam:20260614T140000
DTSTAMP:20260425T151931
CREATED:20260209T105124Z
LAST-MODIFIED:20260209T105124Z
UID:29095-1781431200-1781445600@www.railhobby.nl
SUMMARY:H0-ruilbeurs
DESCRIPTION:Vier keer per jaar vindt in Eefde een unieke ruilbeurs plaats voor liefhebbers van modelauto’s in schaal 1:87 (H0). De ruilbeurzen van de H0 Modelautoclub Nederland staan bekend om het grootste en meest gevarieerde aanbod H0 modelauto’s van het land en trekken bezoekers en aanbieders uit Nederland\, België en Duitsland. \nNaast een uitgebreid aanbod modelauto’s zijn er ook accessoires\, decals\, voorbeeldfoto’s en onderdelen te vinden voor verzamelaars én bouwers. De beurs onderscheidt zich door het gezellige clubkarakter en de internationale sfeer; regelmatig zijn er ook aanbieders uit andere Europese landen aanwezig.
URL:https://www.railhobby.nl/evenement/h0-ruilbeurs-2/
LOCATION:Sporthal De Stuw\, Bargeweg 5\, Eefde\, Gelderland\, 7211 DC\, Netherlands
CATEGORIES:Beurs,Evenement
ATTACH;FMTTYPE=image/jpeg:https://www.railhobby.nl/wp-content/uploads/2026/02/Flyer2026_2.jpg
ORGANIZER;CN="HO-Modelautoclub":MAILTO:ruilbeurs@ho-modelautoclub.nl
END:VEVENT
BEGIN:VEVENT
DTSTART;TZID=Europe/Amsterdam:20260913T100000
DTEND;TZID=Europe/Amsterdam:20260913T140000
DTSTAMP:20260425T151931
CREATED:20260209T105353Z
LAST-MODIFIED:20260209T105353Z
UID:29099-1789293600-1789308000@www.railhobby.nl
SUMMARY:H0-ruilbeurs
DESCRIPTION:Vier keer per jaar vindt in Eefde een unieke ruilbeurs plaats voor liefhebbers van modelauto’s in schaal 1:87 (H0). De ruilbeurzen van de H0 Modelautoclub Nederland staan bekend om het grootste en meest gevarieerde aanbod H0 modelauto’s van het land en trekken bezoekers en aanbieders uit Nederland\, België en Duitsland. \nNaast een uitgebreid aanbod modelauto’s zijn er ook accessoires\, decals\, voorbeeldfoto’s en onderdelen te vinden voor verzamelaars én bouwers. De beurs onderscheidt zich door het gezellige clubkarakter en de internationale sfeer; regelmatig zijn er ook aanbieders uit andere Europese landen aanwezig.
URL:https://www.railhobby.nl/evenement/h0-ruilbeurs-3/
LOCATION:Sporthal De Stuw\, Bargeweg 5\, Eefde\, Gelderland\, 7211 DC\, Netherlands
CATEGORIES:Beurs,Evenement
ATTACH;FMTTYPE=image/jpeg:https://www.railhobby.nl/wp-content/uploads/2026/02/Flyer2026_2.jpg
ORGANIZER;CN="HO-Modelautoclub":MAILTO:ruilbeurs@ho-modelautoclub.nl
END:VEVENT
BEGIN:VEVENT
DTSTART;TZID=Europe/Amsterdam:20261213T100000
DTEND;TZID=Europe/Amsterdam:20261213T140000
DTSTAMP:20260425T151931
CREATED:20260209T105551Z
LAST-MODIFIED:20260209T105551Z
UID:29101-1797156000-1797170400@www.railhobby.nl
SUMMARY:H0-ruilbeurs
DESCRIPTION:Vier keer per jaar vindt in Eefde een unieke ruilbeurs plaats voor liefhebbers van modelauto’s in schaal 1:87 (H0). De ruilbeurzen van de H0 Modelautoclub Nederland staan bekend om het grootste en meest gevarieerde aanbod H0 modelauto’s van het land en trekken bezoekers en aanbieders uit Nederland\, België en Duitsland. \nNaast een uitgebreid aanbod modelauto’s zijn er ook accessoires\, decals\, voorbeeldfoto’s en onderdelen te vinden voor verzamelaars én bouwers. De beurs onderscheidt zich door het gezellige clubkarakter en de internationale sfeer; regelmatig zijn er ook aanbieders uit andere Europese landen aanwezig.
URL:https://www.railhobby.nl/evenement/h0-ruilbeurs-4/
LOCATION:Sporthal De Stuw\, Bargeweg 5\, Eefde\, Gelderland\, 7211 DC\, Netherlands
CATEGORIES:Beurs,Evenement
ATTACH;FMTTYPE=image/jpeg:https://www.railhobby.nl/wp-content/uploads/2026/02/Flyer2026_2.jpg
ORGANIZER;CN="HO-Modelautoclub":MAILTO:ruilbeurs@ho-modelautoclub.nl
END:VEVENT
END:VCALENDAR