BEGIN:VCALENDAR
VERSION:2.0
PRODID:-//Railhobby - ECPv6.7.0//NONSGML v1.0//EN
CALSCALE:GREGORIAN
METHOD:PUBLISH
X-WR-CALNAME:Railhobby
X-ORIGINAL-URL:https://www.railhobby.nl
X-WR-CALDESC:Evenementen voor Railhobby
REFRESH-INTERVAL;VALUE=DURATION:PT1H
X-Robots-Tag:noindex
X-PUBLISHED-TTL:PT1H
BEGIN:VTIMEZONE
TZID:Europe/Amsterdam
BEGIN:DAYLIGHT
TZOFFSETFROM:+0100
TZOFFSETTO:+0200
TZNAME:CEST
DTSTART:20200329T010000
END:DAYLIGHT
BEGIN:STANDARD
TZOFFSETFROM:+0200
TZOFFSETTO:+0100
TZNAME:CET
DTSTART:20201025T010000
END:STANDARD
END:VTIMEZONE
BEGIN:VEVENT
DTSTART;TZID=Europe/Amsterdam:20201114T100000
DTEND;TZID=Europe/Amsterdam:20201114T150000
DTSTAMP:20260425T061309
CREATED:20200902T130242Z
LAST-MODIFIED:20201006T102712Z
UID:15084-1605348000-1605366000@www.railhobby.nl
SUMMARY:Modelspoorbeurs Assen (=AFGELAST)
DESCRIPTION:Tweemaal per jaar organiseert de MSC Assen een modelspoorbeurs. Er is volop gelegenheid is voor inkoop\, verkoop of ruil van allerhande zaken op modelspoorgebied. \nDe aanwezige handelaren zorgen voor een ruim en gevarieerd aanbod. Tijdens elke beurs is er minimaal één modelbaan te bewonderen. U kunt uiteraard met uw vragen op modelspoorgebied terecht bij de aanwezige clubleden.
URL:https://www.railhobby.nl/evenement/modelspoorbeurs-assen-2/
LOCATION:Gebouw Penta van het Dr. Nassaucollege\, Industrieweg 3\, Assen\, 9402 NP
CATEGORIES:Beurs,Evenement
ATTACH;FMTTYPE=image/png:https://www.railhobby.nl/wp-content/uploads/2020/03/msc-assen.png
ORGANIZER;CN="MSC Assen":MAILTO:info[at]mscassen.nl
END:VEVENT
BEGIN:VEVENT
DTSTART;TZID=Europe/Amsterdam:20200208T100000
DTEND;TZID=Europe/Amsterdam:20200208T150000
DTSTAMP:20260425T061309
CREATED:20191224T095519Z
LAST-MODIFIED:20191224T095719Z
UID:12766-1581156000-1581174000@www.railhobby.nl
SUMMARY:Modelspoorbeurs Assen
DESCRIPTION:Tweemaal per jaar organiseert de MSC Assen een modelspoorbeurs\, waarbij volop gelegenheid is voor inkoop\, verkoop of ruil van allerhande zaken op modelspoorgebied. De aanwezige handelaren zorgen voor een ruim en gevarieerd aanbod. Tijdens elke beurs is er minimaal één modelbaan te bewonderen en kunt u natuurlijk met uw vragen op modelspoorgebied terecht bij de aanwezige clubleden. \nWat is er te zien?\n– Een modelspoorbaan.\n– Demonstratie van het besturingsprogramma ‘Koploper’\, zowel voor gelijk- als wisselstroom.\n– Voor de kinderen om zelf te bedienen: een kleine modelspoorbaan\n– Ook voor de kinderen: een houten treinbaan of zelf een huisje maken.
URL:https://www.railhobby.nl/evenement/modelspoorbeurs-assen/
LOCATION:Gebouw Penta van het Dr. Nassaucollege\, Industrieweg 3\, Assen\, 9402 NP
CATEGORIES:Beurs,Evenement
ATTACH;FMTTYPE=image/png:https://www.railhobby.nl/wp-content/uploads/2019/12/MSC-Assen.png
ORGANIZER;CN="MSC Assen":MAILTO:info[at]mscassen.nl
END:VEVENT
END:VCALENDAR