BEGIN:VCALENDAR
VERSION:2.0
PRODID:-//Railhobby - ECPv6.7.0//NONSGML v1.0//EN
CALSCALE:GREGORIAN
METHOD:PUBLISH
X-WR-CALNAME:Railhobby
X-ORIGINAL-URL:https://www.railhobby.nl
X-WR-CALDESC:Evenementen voor Railhobby
REFRESH-INTERVAL;VALUE=DURATION:PT1H
X-Robots-Tag:noindex
X-PUBLISHED-TTL:PT1H
BEGIN:VTIMEZONE
TZID:Europe/Amsterdam
BEGIN:DAYLIGHT
TZOFFSETFROM:+0100
TZOFFSETTO:+0200
TZNAME:CEST
DTSTART:20200329T010000
END:DAYLIGHT
BEGIN:STANDARD
TZOFFSETFROM:+0200
TZOFFSETTO:+0100
TZNAME:CET
DTSTART:20201025T010000
END:STANDARD
END:VTIMEZONE
BEGIN:VEVENT
DTSTART;VALUE=DATE:20200926
DTEND;VALUE=DATE:20200927
DTSTAMP:20260425T020022
CREATED:20200304T103739Z
LAST-MODIFIED:20200304T103739Z
UID:14542-1601078400-1601164799@www.railhobby.nl
SUMMARY:Modelspoor Tilburg 2020
DESCRIPTION:In 2020 wordt de derde editie van Modelspoor Tilburg gehouden op 26 september. De locatie maakt dit evenement uniek; de Wagenmakerij van de voormalige Hoofdwerkplaats van de NS in Tilburg. \nDit jaar met nog meer ruimte voor deelnemers en exposanten om alles wat te maken heeft met modelspoor te demonstreren en aan te bieden aan de liefhebber. Naast een ruim aanbod in nieuwe en gebruikte modelspoorartikelen zijn er ook veel mooie banen en demonstraties te bewonderen. \nOok is er informatie te vinden over de locatie\, de Spoorzone\, voormalig Hoofdwerkplaats van de NS. Er zijn rondleidingen door het gebied en er is een foto-tentoonstelling over de geschiedenis van de Spoorzone.
URL:https://www.railhobby.nl/evenement/modelspoor-tilburg-2020/
LOCATION:Spoorzone Tilburg\, Burgemeester Brokxlaan\, Tilburg\, 5041SB\, Nederland
CATEGORIES:Beurs,Evenement
ATTACH;FMTTYPE=image/jpeg:https://www.railhobby.nl/wp-content/uploads/2019/11/Modelspoor-Tilburg-1068x1068.jpg
ORGANIZER;CN="Modelspoor Tilburg":MAILTO:info@modelspoortilburg.nl
END:VEVENT
END:VCALENDAR