BEGIN:VCALENDAR
VERSION:2.0
PRODID:-//Railhobby - ECPv6.7.0//NONSGML v1.0//EN
CALSCALE:GREGORIAN
METHOD:PUBLISH
X-WR-CALNAME:Railhobby
X-ORIGINAL-URL:https://www.railhobby.nl
X-WR-CALDESC:Evenementen voor Railhobby
REFRESH-INTERVAL;VALUE=DURATION:PT1H
X-Robots-Tag:noindex
X-PUBLISHED-TTL:PT1H
BEGIN:VTIMEZONE
TZID:Europe/Amsterdam
BEGIN:DAYLIGHT
TZOFFSETFROM:+0100
TZOFFSETTO:+0200
TZNAME:CEST
DTSTART:20250330T010000
END:DAYLIGHT
BEGIN:STANDARD
TZOFFSETFROM:+0200
TZOFFSETTO:+0100
TZNAME:CET
DTSTART:20251026T010000
END:STANDARD
END:VTIMEZONE
BEGIN:VEVENT
DTSTART;TZID=Europe/Amsterdam:20250329T100000
DTEND;TZID=Europe/Amsterdam:20250330T160000
DTSTAMP:20260425T165635
CREATED:20250217T151332Z
LAST-MODIFIED:20250217T151332Z
UID:27645-1743242400-1743350400@www.railhobby.nl
SUMMARY:Open dag Baroniespoor
DESCRIPTION:Baroniespoor houdt op 29 en 30 maart open dagen van 10:00 tot 16:00 uur aan de Penningweg 11\, 4879 AE Etten-Leur. Met als hoofdmotief: Een honderdjarige terugblik op Station Breda 1925. Daarnaast staan er banen in schaal H0\, N en Z\, alsook baantjes waar men zelf van groot tot klein de treintjes kan laten rijden.
URL:https://www.railhobby.nl/evenement/open-dag-baroniespoor/
LOCATION:Baroniespoor\, Penningweg 11\, Etten-Leur\, 4879 AE\, Netherlands
CATEGORIES:Open dag
ORGANIZER;CN="MSV Baroniespoor":MAILTO:https://www.baroniespoor.nl/
END:VEVENT
END:VCALENDAR