BEGIN:VCALENDAR
VERSION:2.0
PRODID:-//Railhobby - ECPv6.7.0//NONSGML v1.0//EN
CALSCALE:GREGORIAN
METHOD:PUBLISH
X-ORIGINAL-URL:https://www.railhobby.nl
X-WR-CALDESC:Evenementen voor Railhobby
REFRESH-INTERVAL;VALUE=DURATION:PT1H
X-Robots-Tag:noindex
X-PUBLISHED-TTL:PT1H
BEGIN:VTIMEZONE
TZID:Europe/Amsterdam
BEGIN:DAYLIGHT
TZOFFSETFROM:+0100
TZOFFSETTO:+0200
TZNAME:CEST
DTSTART:20250330T010000
END:DAYLIGHT
BEGIN:STANDARD
TZOFFSETFROM:+0200
TZOFFSETTO:+0100
TZNAME:CET
DTSTART:20251026T010000
END:STANDARD
END:VTIMEZONE
BEGIN:VEVENT
DTSTART;TZID=Europe/Amsterdam:20251018T100000
DTEND;TZID=Europe/Amsterdam:20251019T160000
DTSTAMP:20260425T034333
CREATED:20250217T152202Z
LAST-MODIFIED:20250217T152202Z
UID:27649-1760781600-1760889600@www.railhobby.nl
SUMMARY:De West-Brabantse Modelspoordagen
DESCRIPTION:Op 18 en 19 oktober houdt Baroniespoor van 10:00 tot 16:00 uur gezamenlijk met de West-Brabantse Modelspoor Verenigingen: De West-Brabantse Modelspoordagen in de KSE (Katholieke Scholengemeenschap Etten-Leur) Stijn Streuvelslaan 42\, 4870 AD Etten-Leur Daarbij staan grote en kleine modelspoorbanen opgesteld in diverse schalen en er wordt gedacht aan praktisch alle leeftijden\, waarbij de kinderen op diverse baantjes zelf de treintjes kunnen laten rijden.
URL:https://www.railhobby.nl/evenement/de-west-brabantse-modelspoordagen/
LOCATION:Katholieke Scholengemeenschap Etten-Leur\, Stijn Streuvelslaan 42\, Etten-Leur\, 4870 AD\, Netherlands
CATEGORIES:Evenement
ORGANIZER;CN="Baroniespoor":MAILTO:msv@baroniespoor.nl
END:VEVENT
END:VCALENDAR