BEGIN:VCALENDAR
VERSION:2.0
PRODID:-//Railhobby - ECPv6.7.0//NONSGML v1.0//EN
CALSCALE:GREGORIAN
METHOD:PUBLISH
X-WR-CALNAME:Railhobby
X-ORIGINAL-URL:https://www.railhobby.nl
X-WR-CALDESC:Evenementen voor Railhobby
REFRESH-INTERVAL;VALUE=DURATION:PT1H
X-Robots-Tag:noindex
X-PUBLISHED-TTL:PT1H
BEGIN:VTIMEZONE
TZID:Europe/Amsterdam
BEGIN:DAYLIGHT
TZOFFSETFROM:+0100
TZOFFSETTO:+0200
TZNAME:CEST
DTSTART:20200329T010000
END:DAYLIGHT
BEGIN:STANDARD
TZOFFSETFROM:+0200
TZOFFSETTO:+0100
TZNAME:CET
DTSTART:20201025T010000
END:STANDARD
END:VTIMEZONE
BEGIN:VEVENT
DTSTART;TZID=Europe/Amsterdam:20200418T103000
DTEND;TZID=Europe/Amsterdam:20200418T160000
DTSTAMP:20260425T015429
CREATED:20200309T142034Z
LAST-MODIFIED:20200414T150513Z
UID:14608-1587205800-1587225600@www.railhobby.nl
SUMMARY:Märklin Digitale Demo Dag = afgelast
DESCRIPTION:Op 18 april komt het personeel van Märklin langs bij het Oude Station. Er wordt uitleg gegeven over de digitale besturing van het Central Station 3 en Central Station 3 plus. Ook zal het personeel alle vragen omtrent besturing beantwoorden. U bent tussen 10.30 en 16.00 uur welkom in de winkel. Het Oude Station zorgt dat de koffie\, thee en frisdrank klaar staat.
URL:https://www.railhobby.nl/evenement/marklin-digitale-demo-dag/
LOCATION:Oude Station\, Kerkbuurt 28\, Sliedrecht\, 3361 BJ\, Nederland
CATEGORIES:Beurs,Evenement
ATTACH;FMTTYPE=image/png:https://www.railhobby.nl/wp-content/uploads/2020/03/Oude-Station.png
ORGANIZER;CN="Oude Station":MAILTO:info@oude-station.nl
END:VEVENT
END:VCALENDAR