BEGIN:VCALENDAR
VERSION:2.0
PRODID:-//Railhobby - ECPv6.7.0//NONSGML v1.0//EN
CALSCALE:GREGORIAN
METHOD:PUBLISH
X-WR-CALNAME:Railhobby
X-ORIGINAL-URL:https://www.railhobby.nl
X-WR-CALDESC:Evenementen voor Railhobby
REFRESH-INTERVAL;VALUE=DURATION:PT1H
X-Robots-Tag:noindex
X-PUBLISHED-TTL:PT1H
BEGIN:VTIMEZONE
TZID:Europe/Amsterdam
BEGIN:DAYLIGHT
TZOFFSETFROM:+0100
TZOFFSETTO:+0200
TZNAME:CEST
DTSTART:20200329T010000
END:DAYLIGHT
BEGIN:STANDARD
TZOFFSETFROM:+0200
TZOFFSETTO:+0100
TZNAME:CET
DTSTART:20201025T010000
END:STANDARD
END:VTIMEZONE
BEGIN:VEVENT
DTSTART;TZID=Europe/Amsterdam:20201017T100000
DTEND;TZID=Europe/Amsterdam:20201017T150000
DTSTAMP:20260425T123802
CREATED:20200902T123444Z
LAST-MODIFIED:20200902T123444Z
UID:15073-1602928800-1602946800@www.railhobby.nl
SUMMARY:Modelspoorbeurs Emmen (= AFGELAST)
DESCRIPTION:Sinds 1984 organiseert de MSC Emmen tweemaal per jaar een modelspoorbeurs. Er zijn altijd naast diverse stands met modelspoor\, ook stands met o.a. scenery\, elektronica\, onderdelen voor digitale besturing\, boeken\, etc. te zien. \nTevens zijn er demonstraties over bijvoorbeeld digitale besturing\, aankleding van de baan etc. Ook vindt u op deze beurzen altijd diverse modelbanen van hoog niveau. Er is ook genoeg te doen voor de kleintjes zoals kleuren\, filmpjes kijken\, LEGO en zelf rangeren met een daarbij behorend Rangeerdiploma. \nDaarnaast zijn er ook diverse clubleden aanwezig die u antwoord en hulp kunnen geven bij allerlei vragen op modelspoorgebied. \n 
URL:https://www.railhobby.nl/evenement/modelspoorbeurs-emmen/
LOCATION:Fletcher Hotel\, v. Schaikweg 55\, Emmen\, Drenthe\, 7811 hn\, Nederland
CATEGORIES:Beurs,Evenement
ATTACH;FMTTYPE=image/jpeg:https://www.railhobby.nl/wp-content/uploads/2020/03/msc-emmen-1.jpg
END:VEVENT
END:VCALENDAR