BEGIN:VCALENDAR
VERSION:2.0
PRODID:-//Railhobby - ECPv6.7.0//NONSGML v1.0//EN
CALSCALE:GREGORIAN
METHOD:PUBLISH
X-ORIGINAL-URL:https://www.railhobby.nl
X-WR-CALDESC:Evenementen voor Railhobby
REFRESH-INTERVAL;VALUE=DURATION:PT1H
X-Robots-Tag:noindex
X-PUBLISHED-TTL:PT1H
BEGIN:VTIMEZONE
TZID:UTC
BEGIN:STANDARD
TZOFFSETFROM:+0000
TZOFFSETTO:+0000
TZNAME:UTC
DTSTART:20220101T000000
END:STANDARD
TZID:Europe/Amsterdam
BEGIN:DAYLIGHT
TZOFFSETFROM:+0100
TZOFFSETTO:+0200
TZNAME:CEST
DTSTART:20180325T010000
END:DAYLIGHT
BEGIN:STANDARD
TZOFFSETFROM:+0200
TZOFFSETTO:+0100
TZNAME:CET
DTSTART:20181028T010000
END:STANDARD
BEGIN:DAYLIGHT
TZOFFSETFROM:+0100
TZOFFSETTO:+0200
TZNAME:CEST
DTSTART:20190331T010000
END:DAYLIGHT
BEGIN:STANDARD
TZOFFSETFROM:+0200
TZOFFSETTO:+0100
TZNAME:CET
DTSTART:20191027T010000
END:STANDARD
BEGIN:DAYLIGHT
TZOFFSETFROM:+0100
TZOFFSETTO:+0200
TZNAME:CEST
DTSTART:20200329T010000
END:DAYLIGHT
BEGIN:STANDARD
TZOFFSETFROM:+0200
TZOFFSETTO:+0100
TZNAME:CET
DTSTART:20201025T010000
END:STANDARD
BEGIN:DAYLIGHT
TZOFFSETFROM:+0100
TZOFFSETTO:+0200
TZNAME:CEST
DTSTART:20210328T010000
END:DAYLIGHT
BEGIN:STANDARD
TZOFFSETFROM:+0200
TZOFFSETTO:+0100
TZNAME:CET
DTSTART:20211031T010000
END:STANDARD
BEGIN:DAYLIGHT
TZOFFSETFROM:+0100
TZOFFSETTO:+0200
TZNAME:CEST
DTSTART:20220327T010000
END:DAYLIGHT
BEGIN:STANDARD
TZOFFSETFROM:+0200
TZOFFSETTO:+0100
TZNAME:CET
DTSTART:20221030T010000
END:STANDARD
END:VTIMEZONE
BEGIN:VEVENT
DTSTART;TZID=UTC:20221210T094500
DTEND;TZID=UTC:20221210T150000
DTSTAMP:20260424T230032
CREATED:20220803T122048Z
LAST-MODIFIED:20220803T122048Z
UID:21691-1670665500-1670684400@www.railhobby.nl
SUMMARY:Houten Modelspoorbeurs & Modelbouw
DESCRIPTION:Houten Modelbouw is een evenement waarbij naast de reguliere modelspoorbeurs alles te vinden is op het gebied van modelbouw.
URL:https://www.railhobby.nl/evenement/houten-modelspoorbeurs-modelbouw/
LOCATION:Expo Houten\, Meidoornkade 24\, Houten\, 3992AE\, Nederland
CATEGORIES:Beurs,Evenement
ATTACH;FMTTYPE=image/jpeg:https://www.railhobby.nl/wp-content/uploads/2020/03/Website-Expo-Houten-Modelspoor-450x300-1.jpg
ORGANIZER;CN="Hobma Import B.V.":MAILTO:info{@}modelspoorbeurs.nl
END:VEVENT
BEGIN:VEVENT
DTSTART;TZID=UTC:20221112T094500
DTEND;TZID=UTC:20221112T160000
DTSTAMP:20260424T230032
CREATED:20220729T145207Z
LAST-MODIFIED:20220729T145207Z
UID:21673-1668246300-1668268800@www.railhobby.nl
SUMMARY:Houten Digitaal
DESCRIPTION:Houten Digitaal is een evenement waar verenigingen\, clubs en individuele modelspoorhobbyisten de ruimte krijgen om aan een groot publiek te laten zien welke digitale toepassingen zij voor hun modelbaan hebben gemaakt.
URL:https://www.railhobby.nl/evenement/houten-digitaal-3/
LOCATION:Expo Houten\, Meidoornkade 24\, Houten\, 3992AE\, Nederland
CATEGORIES:Beurs,Evenement
ATTACH;FMTTYPE=image/jpeg:https://www.railhobby.nl/wp-content/uploads/2020/03/Website-Expo-Houten-Modelspoor-450x300-1.jpg
ORGANIZER;CN="Hobma Import B.V.":MAILTO:info{@}modelspoorbeurs.nl
END:VEVENT
BEGIN:VEVENT
DTSTART;TZID=Europe/Amsterdam:20221008T094500
DTEND;TZID=Europe/Amsterdam:20221008T150000
DTSTAMP:20260424T230032
CREATED:20220727T105024Z
LAST-MODIFIED:20220729T145459Z
UID:21628-1665222300-1665241200@www.railhobby.nl
SUMMARY:Modelspoorbeurs & HCC Kennisdag
DESCRIPTION:Op 8 oktober organiseert Hobma weer een reguliere modelspoorbeurs in de Expo Houten. Tevens is er op deze dag een HCC-Kennisdag voor de HCC-leden.
URL:https://www.railhobby.nl/evenement/modelspoorbeurs-hcc-kennisdag/
LOCATION:Expo Houten\, Meidoornkade 24\, Houten\, 3992AE\, Nederland
CATEGORIES:Beurs,Evenement
ATTACH;FMTTYPE=image/jpeg:https://www.railhobby.nl/wp-content/uploads/2020/03/Website-Expo-Houten-Modelspoor-450x300-1.jpg
ORGANIZER;CN="Hobma Import B.V.":MAILTO:info{@}modelspoorbeurs.nl
END:VEVENT
BEGIN:VEVENT
DTSTART;TZID=Europe/Amsterdam:20220827T100000
DTEND;TZID=Europe/Amsterdam:20220827T150000
DTSTAMP:20260424T230032
CREATED:20220727T104525Z
LAST-MODIFIED:20220727T104525Z
UID:21626-1661594400-1661612400@www.railhobby.nl
SUMMARY:Expo Houten
DESCRIPTION:Noteer 27 augustus in uw agenda: Modelspoorbeurs in Houten. \n\n\n\n\n\nOp deze dag organiseert Hobma in Expo Houten te Houten de eerste modelspoorbeurs na de zomervakantie. Alle zalen staan in het teken van alles wat met het modelspoor of automatisering te maken heeft. Dit houdt in ruim 10.000 m² plezier! De zalen zijn open van 10.00 uur tot 15:00 uur. Meer informatie vindt u op onze site www.modelspoorbeurs.nl. \nOnderstaande is van toepassing op de beurs van 27 augustus 2022. \nLet op: u kunt op twee manieren een toegangskaartje kopen\, online €8\,00p.p. of aan de kassa €10\,–p.p.\n– Koopt u uw toegangsticket online dan betaalt u € 8\,00 p.p. Online zijn de toegangskaarten te koop t/m de woensdag vóór de desbetreffende beurs. Voor onze beurs van 27 augustus betekent dit dat u de kaarten online kunt kopen vanaf 1 augustus t/m 24 augustus.\n– Van donderdag 25 augustus tot en met zaterdag 27 augustus 2022 zijn GEEN toegangskaarten meer online te koop. \nOp zaterdag 27 augustus 2022 kunt u een toegangskaart kopen bij de kassa van de beurs à € 10\,00 contant per persoon. We beschikken niet over een pinautomaat! Ons advies is dan ook: koop uw toegangskaartje online\, dan bespaart u € 2\,– en  kan iedereen sneller naar binnen.
URL:https://www.railhobby.nl/evenement/expo-houten-3/
LOCATION:Expo Houten\, Meidoornkade 24\, Houten\, 3992AE\, Nederland
CATEGORIES:Beurs,Evenement
ATTACH;FMTTYPE=image/jpeg:https://www.railhobby.nl/wp-content/uploads/2020/03/Website-Expo-Houten-Modelspoor-450x300-1.jpg
ORGANIZER;CN="Hobma Import B.V.":MAILTO:info{@}modelspoorbeurs.nl
END:VEVENT
BEGIN:VEVENT
DTSTART;TZID=Europe/Amsterdam:20201107T100000
DTEND;TZID=Europe/Amsterdam:20201108T160000
DTSTAMP:20260424T230032
CREATED:20200902T125841Z
LAST-MODIFIED:20201015T102751Z
UID:15031-1604743200-1604851200@www.railhobby.nl
SUMMARY:Houten Digitaal (= AFGELAST)
DESCRIPTION:Toen de organisatie zeven jaar geleden aan dit avontuur begonnen\, hadden ze niet kunnen verwachten dat dit in zo’n grote behoefte zou voldoen. Tot aan sluitingstijd bleef het gezellig druk in de hallen in Houten. De aanwezige clubs en verenigingen hebben zich op een uitstekende wijze kunnen profileren. Veel hobbyisten zijn op het spoor van de digitalisering gezet. De enthousiaste reacties van zowel bezoekers als deelnemers hebben ertoe geleid dat de organisatie nu al definitief in 2020 de zevende editie van Houten Digitaal mag organiseren. \nHouten Digitaal is een jaarlijks terugkerend onderdeel van de reguliere Internationale Modelspoorbeurs. Houten Digitaal vindt in 2020 plaats op 7 en 8 november.  Onze “gewone” Modelspoorbeurs treft u\, zoals altijd aan in zaal 1\, 2 en 3. Houten Digitaal vindt u in zaal 1A. Dit is de uitbreiding van zaal 1 (extra ruimte achter zaal 1) achter het restaurant. Bij binnenkomst in zaal 1 komt u dus in de ruimte waar de modelspoorbeurs georganiseerd wordt\, loopt u links richting restaurant dan treft u daar de ruimte van Houten Digitaal aan. In deze extra ruimte kunt u alle digitale systemen aantreffen die er momenteel op de markt zijn en worden die door de leveranciers én enthousiaste gebruikers van de systemen aan u voorgesteld en als u wilt uitvoerig besproken. Hier kunt u terecht met al uw vragen betreffend het digitaliseren van uw modelspoorbaan. \n 
URL:https://www.railhobby.nl/evenement/houten-digitaal-2/
LOCATION:Expo Houten\, Meidoornkade 24\, Houten\, 3992AE\, Nederland
CATEGORIES:Beurs,Evenement
ATTACH;FMTTYPE=image/jpeg:https://www.railhobby.nl/wp-content/uploads/2020/03/Website-Expo-Houten-Modelspoor-450x300-1.jpg
ORGANIZER;CN="Hobma Import B.V.":MAILTO:info{@}modelspoorbeurs.nl
END:VEVENT
BEGIN:VEVENT
DTSTART;TZID=Europe/Amsterdam:20201010T100000
DTEND;TZID=Europe/Amsterdam:20201010T150000
DTSTAMP:20260424T230032
CREATED:20200902T121656Z
LAST-MODIFIED:20201006T100436Z
UID:15029-1602324000-1602342000@www.railhobby.nl
SUMMARY:Modelspoorbeurs Expo Houten (=AFGELAST)
DESCRIPTION:Op 10 oktober 2020 staat Expo Houten te Houten weer vol modelspoortreinen! \nIn Expo Houten is GEEN geldautomaat aanwezig. Er kan betaald worden met de pinpas\, maar dit is alleen bij sommige deelnemers.
URL:https://www.railhobby.nl/evenement/modelspoorbeurs-expo-houten-16/
LOCATION:Expo Houten\, Meidoornkade 24\, Houten\, 3992AE\, Nederland
CATEGORIES:Beurs,Evenement
ATTACH;FMTTYPE=image/jpeg:https://www.railhobby.nl/wp-content/uploads/2020/03/Website-Expo-Houten-Modelspoor-450x300-1.jpg
ORGANIZER;CN="Hobma Import B.V.":MAILTO:info{@}modelspoorbeurs.nl
END:VEVENT
BEGIN:VEVENT
DTSTART;TZID=Europe/Amsterdam:20200829T100000
DTEND;TZID=Europe/Amsterdam:20200829T150000
DTSTAMP:20260424T230032
CREATED:20200416T140153Z
LAST-MODIFIED:20200416T140153Z
UID:15027-1598695200-1598713200@www.railhobby.nl
SUMMARY:Modelspoorbeurs Expo Houten
DESCRIPTION:Op 29 augustus 2020 staat Expo Houten te Houten weer vol modelspoortreinen! Groot aanbod van nieuwe en gebruikte modelspoor artikelen. In samenwerking met HCCM. \nIn Expo Houten is geen geldautomaat aanwezig. Bij sommige deelnemers kan wel met de pinpas betaald worden.
URL:https://www.railhobby.nl/evenement/expo-houten-2/
LOCATION:Expo Houten\, Meidoornkade 24\, Houten\, 3992AE\, Nederland
CATEGORIES:Beurs,Evenement
ATTACH;FMTTYPE=image/jpeg:https://www.railhobby.nl/wp-content/uploads/2020/03/Website-Expo-Houten-Modelspoor-450x300-1.jpg
ORGANIZER;CN="Hobma Import B.V.":MAILTO:info{@}modelspoorbeurs.nl
END:VEVENT
BEGIN:VEVENT
DTSTART;TZID=Europe/Amsterdam:20200502T100000
DTEND;TZID=Europe/Amsterdam:20200502T150000
DTSTAMP:20260424T230032
CREATED:20200318T161636Z
LAST-MODIFIED:20200318T161636Z
UID:14867-1588413600-1588431600@www.railhobby.nl
SUMMARY:Expo Houten
DESCRIPTION:Op 2 mei 2020 staat Expo Houten te Houten weer vol modelspoortreinen! \nIn Expo Houten is GEEN geldautomaat aanwezig.\nBij sommige deelnemers kan wel met de pinpas betaald worden.
URL:https://www.railhobby.nl/evenement/expo-houten/
LOCATION:Expo Houten\, Meidoornkade 24\, Houten\, 3992AE\, Nederland
CATEGORIES:Beurs,Evenement
ATTACH;FMTTYPE=image/png:https://www.railhobby.nl/wp-content/uploads/2018/04/logo-modelspoorbeurs_1.png
ORGANIZER;CN="Hobma Import B.V.":MAILTO:info{@}modelspoorbeurs.nl
END:VEVENT
BEGIN:VEVENT
DTSTART;TZID=Europe/Amsterdam:20191109T100000
DTEND;TZID=Europe/Amsterdam:20191109T150000
DTSTAMP:20260424T230032
CREATED:20181220T091352Z
LAST-MODIFIED:20181220T091352Z
UID:10069-1573293600-1573311600@www.railhobby.nl
SUMMARY:Modelspoorbeurs Expo Houten
DESCRIPTION:De modelspoorbeurs in Houten wordt gehouden in 3 hallen met een groot aanbod van nieuwe en gebruikte modelspoorartikelen. \nTot ziens op de grootste Modelspoorbeurs van Europa\, waar men meestal ook vindt wat men zoekt!!!
URL:https://www.railhobby.nl/evenement/modelspoorbeurs-expo-houten-13/
LOCATION:Expo Houten\, Meidoornkade 24\, Houten\, 3992AE\, Nederland
CATEGORIES:Evenement
ATTACH;FMTTYPE=image/png:https://www.railhobby.nl/wp-content/uploads/2018/04/logo-modelspoorbeurs_1.png
END:VEVENT
BEGIN:VEVENT
DTSTART;TZID=Europe/Amsterdam:20191012T100000
DTEND;TZID=Europe/Amsterdam:20191012T150000
DTSTAMP:20260424T230032
CREATED:20181220T091107Z
LAST-MODIFIED:20181220T091107Z
UID:10067-1570874400-1570892400@www.railhobby.nl
SUMMARY:Modelspoorbeurs Expo Houten
DESCRIPTION:De modelspoorbeurs in Houten wordt gehouden in 3 hallen met een groot aanbod van nieuwe en gebruikte modelspoorartikelen. \nTot ziens op de grootste Modelspoorbeurs van Europa\, waar men meestal ook vindt wat men zoekt!!!
URL:https://www.railhobby.nl/evenement/modelspoorbeurs-expo-houten-12/
LOCATION:Expo Houten\, Meidoornkade 24\, Houten\, 3992AE\, Nederland
CATEGORIES:Evenement
ATTACH;FMTTYPE=image/png:https://www.railhobby.nl/wp-content/uploads/2018/04/logo-modelspoorbeurs_1.png
END:VEVENT
BEGIN:VEVENT
DTSTART;TZID=Europe/Amsterdam:20190824T100000
DTEND;TZID=Europe/Amsterdam:20190824T150000
DTSTAMP:20260424T230032
CREATED:20181220T090743Z
LAST-MODIFIED:20181220T090743Z
UID:10065-1566640800-1566658800@www.railhobby.nl
SUMMARY:Modelspoorbeurs Expo Houten
DESCRIPTION:De modelspoorbeurs in Houten wordt gehouden in 3 hallen met een groot aanbod van nieuwe en gebruikte modelspoorartikelen. \nTot ziens op de grootste Modelspoorbeurs van Europa\, waar men meestal ook vindt wat men zoekt!!!
URL:https://www.railhobby.nl/evenement/modelspoorbeurs-expo-houten-11/
LOCATION:Expo Houten\, Meidoornkade 24\, Houten\, 3992AE\, Nederland
CATEGORIES:Evenement
ATTACH;FMTTYPE=image/png:https://www.railhobby.nl/wp-content/uploads/2018/04/logo-modelspoorbeurs_1.png
END:VEVENT
BEGIN:VEVENT
DTSTART;TZID=Europe/Amsterdam:20190629T100000
DTEND;TZID=Europe/Amsterdam:20190629T150000
DTSTAMP:20260424T230032
CREATED:20181220T090249Z
LAST-MODIFIED:20181220T090249Z
UID:10062-1561802400-1561820400@www.railhobby.nl
SUMMARY:Modelspoorbeurs Expo Houten
DESCRIPTION:De modelspoorbeurs in Houten wordt gehouden in 3 hallen met een groot aanbod van nieuwe en gebruikte modelspoorartikelen. \nTot ziens op de grootste Modelspoorbeurs van Europa\, waar men meestal ook vindt wat men zoekt!!!
URL:https://www.railhobby.nl/evenement/modelspoorbeurs-expo-houten-10/
LOCATION:Expo Houten\, Meidoornkade 24\, Houten\, 3992AE\, Nederland
CATEGORIES:Evenement
ATTACH;FMTTYPE=image/png:https://www.railhobby.nl/wp-content/uploads/2018/04/logo-modelspoorbeurs_1.png
END:VEVENT
BEGIN:VEVENT
DTSTART;TZID=Europe/Amsterdam:20190504T100000
DTEND;TZID=Europe/Amsterdam:20190504T150000
DTSTAMP:20260424T230032
CREATED:20181129T093952Z
LAST-MODIFIED:20181129T094504Z
UID:9874-1556964000-1556982000@www.railhobby.nl
SUMMARY:Modelspoorbeurs Expo Houten
DESCRIPTION:De modelspoorbeurs in Houten wordt gehouden in 3 hallen met een groot aanbod van nieuwe en gebruikte modelspoorartikelen.
URL:https://www.railhobby.nl/evenement/modelspoorbeurs-expo-houten-9/
LOCATION:Expo Houten\, Meidoornkade 24\, Houten\, 3992AE\, Nederland
CATEGORIES:Evenement
ATTACH;FMTTYPE=image/png:https://www.railhobby.nl/wp-content/uploads/2018/04/logo-modelspoorbeurs_1.png
END:VEVENT
BEGIN:VEVENT
DTSTART;TZID=Europe/Amsterdam:20190309T100000
DTEND;TZID=Europe/Amsterdam:20190309T150000
DTSTAMP:20260424T230032
CREATED:20181129T092640Z
LAST-MODIFIED:20181129T093621Z
UID:9870-1552125600-1552143600@www.railhobby.nl
SUMMARY:Modelspoorbeurs Expo Houten
DESCRIPTION:De modelspoorbeurs in Houten wordt gehouden in 3 hallen met een groot aanbod van nieuwe en gebruikte modelspoorartikelen.
URL:https://www.railhobby.nl/evenement/modelspoorbeurs-expo-houten-8/
LOCATION:Expo Houten\, Meidoornkade 24\, Houten\, 3992AE\, Nederland
CATEGORIES:Evenement
ATTACH;FMTTYPE=image/png:https://www.railhobby.nl/wp-content/uploads/2018/04/logo-modelspoorbeurs_1.png
END:VEVENT
BEGIN:VEVENT
DTSTART;VALUE=DATE:20190222
DTEND;VALUE=DATE:20190225
DTSTAMP:20260424T230032
CREATED:20181129T095801Z
LAST-MODIFIED:20181129T100455Z
UID:9876-1550793600-1551052799@www.railhobby.nl
SUMMARY:Rail 2019
DESCRIPTION:Van 22 – 24 februari 2019 is het RAIL weekeinde. De gezellige ontmoetingsplaats voor heel modelsporend Nederland. Voor doorgewinterde bouwers\, die elkaar vriendschappelijk de maat nemen over schalen\, scenery\, realisme in landschap en schalen. Maar ook voor de beginners. En diegene die modelspoor nog van vroeger kent\, nu weer wat tijd heeft en de hobby opnieuw wil oppakken. Of zijn (klein)kinderen eens naar treintjes wil laten kijken. RAIL zet de deuren wijd open met een gratis toegang voor kinderen.  \nWegens groot succes komt op RAIL 2019 het RAIL THEATER terug met een interessant programma. \nDit en meer.
URL:https://www.railhobby.nl/evenement/rail-2019/
LOCATION:Expo Houten\, Meidoornkade 24\, Houten\, 3992AE\, Nederland
CATEGORIES:Evenement
ATTACH;FMTTYPE=image/png:https://www.railhobby.nl/wp-content/uploads/2018/11/rail_2.png
END:VEVENT
BEGIN:VEVENT
DTSTART;TZID=Europe/Amsterdam:20190119T100000
DTEND;TZID=Europe/Amsterdam:20190119T150000
DTSTAMP:20260424T230032
CREATED:20181129T091630Z
LAST-MODIFIED:20181129T092852Z
UID:9867-1547892000-1547910000@www.railhobby.nl
SUMMARY:Modelspoorbeurs Expo Houten
DESCRIPTION:De modelspoorbeurs in Houten wordt gehouden in 3 hallen met een groot aanbod van nieuwe en gebruikte modelspoorartikelen.
URL:https://www.railhobby.nl/evenement/modelspoorbeurs-expo-houten-7/
LOCATION:Expo Houten\, Meidoornkade 24\, Houten\, 3992AE\, Nederland
CATEGORIES:Evenement
ATTACH;FMTTYPE=image/png:https://www.railhobby.nl/wp-content/uploads/2018/04/logo-modelspoorbeurs_1.png
END:VEVENT
BEGIN:VEVENT
DTSTART;TZID=Europe/Amsterdam:20181208T100000
DTEND;TZID=Europe/Amsterdam:20181208T150000
DTSTAMP:20260424T230032
CREATED:20180507T094549Z
LAST-MODIFIED:20180507T094549Z
UID:8762-1544263200-1544281200@www.railhobby.nl
SUMMARY:Modelspoorbeurs Expo Houten
DESCRIPTION:De beurs in Houten wordt gehouden in 3 hallen met een groot aanbod van nieuwe en gebruikte modelspoorartikelen.
URL:https://www.railhobby.nl/evenement/modelspoorbeurs-expo-houten-6/
LOCATION:Expo Houten\, Meidoornkade 24\, Houten\, 3992AE\, Nederland
CATEGORIES:Evenement
ATTACH;FMTTYPE=image/png:https://www.railhobby.nl/wp-content/uploads/2018/04/logo-modelspoorbeurs_1.png
END:VEVENT
BEGIN:VEVENT
DTSTART;TZID=Europe/Amsterdam:20180630T100000
DTEND;TZID=Europe/Amsterdam:20180630T150000
DTSTAMP:20260424T230032
CREATED:20180328T121223Z
LAST-MODIFIED:20180328T121223Z
UID:7316-1530352800-1530370800@www.railhobby.nl
SUMMARY:Modelspoorbeurs Expo Houten
DESCRIPTION:De beurs in Houten wordt gehouden in 3 hallen met een groot aanbod van nieuwe en gebruikte modelspoorartikelen.
URL:https://www.railhobby.nl/evenement/modelspoorbeurs-expo-houten-2/
LOCATION:Expo Houten\, Meidoornkade 24\, Houten\, 3992AE\, Nederland
CATEGORIES:Evenement
ATTACH;FMTTYPE=image/jpeg:https://www.railhobby.nl/wp-content/uploads/2018/03/Modelspoorbeurs-Expo.jpg
END:VEVENT
BEGIN:VEVENT
DTSTART;TZID=Europe/Amsterdam:20180505T100000
DTEND;TZID=Europe/Amsterdam:20180505T150000
DTSTAMP:20260424T230032
CREATED:20180426T134208Z
LAST-MODIFIED:20180426T134208Z
UID:8201-1525514400-1525532400@www.railhobby.nl
SUMMARY:Modelspoorbeurs Houten
DESCRIPTION:De beurs in Houten wordt gehouden in 3 hallen met een groot aanbod van nieuwe en gebruikte modelspoorartikelen.
URL:https://www.railhobby.nl/evenement/modelspoorbeurs-houten/
LOCATION:Expo Houten\, Meidoornkade 24\, Houten\, 3992AE\, Nederland
CATEGORIES:Beurs
ATTACH;FMTTYPE=image/png:https://www.railhobby.nl/wp-content/uploads/2018/04/logo-modelspoorbeurs_1.png
END:VEVENT
END:VCALENDAR