BEGIN:VCALENDAR
VERSION:2.0
PRODID:-//Railhobby - ECPv6.7.0//NONSGML v1.0//EN
CALSCALE:GREGORIAN
METHOD:PUBLISH
X-ORIGINAL-URL:https://www.railhobby.nl
X-WR-CALDESC:Evenementen voor Railhobby
REFRESH-INTERVAL;VALUE=DURATION:PT1H
X-Robots-Tag:noindex
X-PUBLISHED-TTL:PT1H
BEGIN:VTIMEZONE
TZID:Europe/Amsterdam
BEGIN:DAYLIGHT
TZOFFSETFROM:+0100
TZOFFSETTO:+0200
TZNAME:CEST
DTSTART:20250330T010000
END:DAYLIGHT
BEGIN:STANDARD
TZOFFSETFROM:+0200
TZOFFSETTO:+0100
TZNAME:CET
DTSTART:20251026T010000
END:STANDARD
END:VTIMEZONE
BEGIN:VEVENT
DTSTART;TZID=Europe/Amsterdam:20250410T100000
DTEND;TZID=Europe/Amsterdam:20250413T170000
DTSTAMP:20260425T024342
CREATED:20250123T132420Z
LAST-MODIFIED:20250123T132420Z
UID:27539-1744279200-1744563600@www.railhobby.nl
SUMMARY:Intermodellbau Dortmund
DESCRIPTION:Intermodellbau biedt alles voor de liefhebber van modelbouw. Van 10 t/m 13 april vind je in Dortmund diorama’s van honderden exposanten uit verschillende landen\, gedetailleerde modellen in alle schalen\, technische verfijningen\, spannende en adembenemende shows en een onvergetelijke leerervaring voor jonge en volwassen modelbouwers – ongeacht hun ervaringsniveau.
URL:https://www.railhobby.nl/evenement/intermodellbau-dortmund/
LOCATION:Messe Dortmund GmbH\, Strobelallee 45\, Dortmund\, 44139\, Duitsland
CATEGORIES:Beurs
END:VEVENT
END:VCALENDAR