BEGIN:VCALENDAR
VERSION:2.0
PRODID:-//Railhobby - ECPv6.7.0//NONSGML v1.0//EN
CALSCALE:GREGORIAN
METHOD:PUBLISH
X-WR-CALNAME:Railhobby
X-ORIGINAL-URL:https://www.railhobby.nl
X-WR-CALDESC:Evenementen voor Railhobby
REFRESH-INTERVAL;VALUE=DURATION:PT1H
X-Robots-Tag:noindex
X-PUBLISHED-TTL:PT1H
BEGIN:VTIMEZONE
TZID:Europe/Amsterdam
BEGIN:DAYLIGHT
TZOFFSETFROM:+0100
TZOFFSETTO:+0200
TZNAME:CEST
DTSTART:20190331T010000
END:DAYLIGHT
BEGIN:STANDARD
TZOFFSETFROM:+0200
TZOFFSETTO:+0100
TZNAME:CET
DTSTART:20191027T010000
END:STANDARD
BEGIN:DAYLIGHT
TZOFFSETFROM:+0100
TZOFFSETTO:+0200
TZNAME:CEST
DTSTART:20200329T010000
END:DAYLIGHT
BEGIN:STANDARD
TZOFFSETFROM:+0200
TZOFFSETTO:+0100
TZNAME:CET
DTSTART:20201025T010000
END:STANDARD
BEGIN:DAYLIGHT
TZOFFSETFROM:+0100
TZOFFSETTO:+0200
TZNAME:CEST
DTSTART:20210328T010000
END:DAYLIGHT
BEGIN:STANDARD
TZOFFSETFROM:+0200
TZOFFSETTO:+0100
TZNAME:CET
DTSTART:20211031T010000
END:STANDARD
BEGIN:DAYLIGHT
TZOFFSETFROM:+0100
TZOFFSETTO:+0200
TZNAME:CEST
DTSTART:20220327T010000
END:DAYLIGHT
BEGIN:STANDARD
TZOFFSETFROM:+0200
TZOFFSETTO:+0100
TZNAME:CET
DTSTART:20221030T010000
END:STANDARD
BEGIN:DAYLIGHT
TZOFFSETFROM:+0100
TZOFFSETTO:+0200
TZNAME:CEST
DTSTART:20230326T010000
END:DAYLIGHT
BEGIN:STANDARD
TZOFFSETFROM:+0200
TZOFFSETTO:+0100
TZNAME:CET
DTSTART:20231029T010000
END:STANDARD
BEGIN:DAYLIGHT
TZOFFSETFROM:+0100
TZOFFSETTO:+0200
TZNAME:CEST
DTSTART:20240331T010000
END:DAYLIGHT
BEGIN:STANDARD
TZOFFSETFROM:+0200
TZOFFSETTO:+0100
TZNAME:CET
DTSTART:20241027T010000
END:STANDARD
BEGIN:DAYLIGHT
TZOFFSETFROM:+0100
TZOFFSETTO:+0200
TZNAME:CEST
DTSTART:20250330T010000
END:DAYLIGHT
BEGIN:STANDARD
TZOFFSETFROM:+0200
TZOFFSETTO:+0100
TZNAME:CET
DTSTART:20251026T010000
END:STANDARD
BEGIN:DAYLIGHT
TZOFFSETFROM:+0100
TZOFFSETTO:+0200
TZNAME:CEST
DTSTART:20260329T010000
END:DAYLIGHT
BEGIN:STANDARD
TZOFFSETFROM:+0200
TZOFFSETTO:+0100
TZNAME:CET
DTSTART:20261025T010000
END:STANDARD
END:VTIMEZONE
BEGIN:VEVENT
DTSTART;TZID=Europe/Amsterdam:20260110T100000
DTEND;TZID=Europe/Amsterdam:20260111T180000
DTSTAMP:20260425T053126
CREATED:20250825T143612Z
LAST-MODIFIED:20250825T144247Z
UID:28515-1768039200-1768154400@www.railhobby.nl
SUMMARY:Emsland Modelbouw
DESCRIPTION:20 Internationale + meer dan 40 modelspoorbanen handelaren op de grote internationale verkoops- en 2de handsbeurs. Non-stop presentaties\, mini-trucker shows\, scheepsmodelbouw shows\, grote speelgoed bouwstenen afdeling\, rc-car races\,
URL:https://www.railhobby.nl/evenement/emsland-modelbouw-3/
LOCATION:Emslandhallen\, Lindenstraße 24a\, Lingen/Ems\, 49808\, Duitsland
CATEGORIES:Beurs
ORGANIZER;CN="Modellbaumessen & Modellspielzeugm%C3%A4rkte":MAILTO:info@bv-messen.de
END:VEVENT
BEGIN:VEVENT
DTSTART;TZID=Europe/Amsterdam:20191221T100000
DTEND;TZID=Europe/Amsterdam:20191222T160000
DTSTAMP:20260425T053126
CREATED:20191128T095159Z
LAST-MODIFIED:20191128T095159Z
UID:12365-1576922400-1577030400@www.railhobby.nl
SUMMARY:Modelspoorbeurs Zutphen
DESCRIPTION:Modelspoorbeurs Zutphen organiseert op 21 en 22 december 2019 het grootste internationale modelspoor evenement in het oosten van het land. Bij de binnen- en buitenlandse verkopers kunt u diverse modelspoortreinen aanschaffen of ruilen. Er zijn handelaren die uw oude trein kunnen overnemen/innemen. Vraag bij de organisatie welke handelaren dit zijn. \nEr zijn diverse rijdende modelspoorbanen van verenigingen uit Nederland en België. Ook zijn er regionale en nationale modelspoorders uit Zutphen en omgeving die hun modelspoorcreatie aan u tonen. Zij staan u graag te woord. Een modelspoortrein kunt u gratis laten testen bij verschillende standhouders. Ook kunt u workshops volgen waarbij u uitgebreid kennis maakt met meerdere aspecten van de hobby. \nTijdens deze beurs is er extra aandacht voor digitalisering van nieuwe maar ook oude modelspoortreinen. Kortom\, voor elk wat wils. Op zaterdag en zondag worden iedere dag 2 treinsets onder kinderen t/m 11 jaar verloot. Kinderen tot 12 jaar mogen onder begeleiding gratis naar binnen.
URL:https://www.railhobby.nl/evenement/modelspoorbeurs-zutphen-3/
LOCATION:Hanzehal\, Fanny Blankers-Koenweg 2\, Zutphen\, 7203AA\, Nederland
CATEGORIES:Beurs,Evenement
ATTACH;FMTTYPE=image/jpeg:https://www.railhobby.nl/wp-content/uploads/2019/11/Modelspoorbeurs-Zuthpen.jpg
ORGANIZER;CN="Modelspoorbeurs Zutphen":MAILTO:info[at]modelspoorbeurszutphen.com
END:VEVENT
BEGIN:VEVENT
DTSTART;TZID=Europe/Amsterdam:20191027T100000
DTEND;TZID=Europe/Amsterdam:20191027T170000
DTSTAMP:20260425T053126
CREATED:20190730T075209Z
LAST-MODIFIED:20190730T075209Z
UID:11058-1572170400-1572195600@www.railhobby.nl
SUMMARY:Internationale Modelspoorbeurs
DESCRIPTION:Module-Club uit Steinsel organiseert het laatste weekend van oktober de Internationale Modelspoorbeurs in Luxemburg. Deze beurs is bekend in de regio en daarbuiten. Er komen elk jaar deelnemers en bezoekers uit Luxemburg\, Nederland\, Duitsland\, Frankrijk en België. Als je op zoek bent naar iets extravagant of een bepaald model\, dan is de kans groot dat je het op deze beurs vindt. \nKijk hier voor meer informatie. \n 
URL:https://www.railhobby.nl/evenement/internationale-modelspoorbeurs/
LOCATION:Module-Club Luxembourg A.s.b.l.\, 61\, rue Michel Gehrend\, Luxemburg\, L-1619\, Luxemburg
CATEGORIES:Beurs,Evenement
ATTACH;FMTTYPE=image/jpeg:https://www.railhobby.nl/wp-content/uploads/2019/07/Beurs-Luxemburg.jpg
ORGANIZER;CN="Module-Club Luxembourg":MAILTO:info@module-club.lu
END:VEVENT
END:VCALENDAR