BEGIN:VCALENDAR
VERSION:2.0
PRODID:-//Railhobby - ECPv6.7.0//NONSGML v1.0//EN
CALSCALE:GREGORIAN
METHOD:PUBLISH
X-WR-CALNAME:Railhobby
X-ORIGINAL-URL:https://www.railhobby.nl
X-WR-CALDESC:Evenementen voor Railhobby
REFRESH-INTERVAL;VALUE=DURATION:PT1H
X-Robots-Tag:noindex
X-PUBLISHED-TTL:PT1H
BEGIN:VTIMEZONE
TZID:Europe/Amsterdam
BEGIN:DAYLIGHT
TZOFFSETFROM:+0100
TZOFFSETTO:+0200
TZNAME:CEST
DTSTART:20200329T010000
END:DAYLIGHT
BEGIN:STANDARD
TZOFFSETFROM:+0200
TZOFFSETTO:+0100
TZNAME:CET
DTSTART:20201025T010000
END:STANDARD
END:VTIMEZONE
BEGIN:VEVENT
DTSTART;TZID=Europe/Amsterdam:20201017T100000
DTEND;TZID=Europe/Amsterdam:20201017T150000
DTSTAMP:20260425T041115
CREATED:20200902T124326Z
LAST-MODIFIED:20200902T124326Z
UID:15070-1602928800-1602946800@www.railhobby.nl
SUMMARY:Treinbeurs Joure
DESCRIPTION:In het Friese Joure beleven we zes maal per jaar een van de gezelligste treinbeurzen. Op meer dan 100 meter aan tafels\, verdeeld over twee grote zalen\, tonen deelnemers een veelzijdig aanbod aan gebruikte en nieuwe modeltreinen. \nOp de beurs kan men snuffelen tussen kramen. Met allerlei treinen en even lekker bijpraten over deze hobby die begonnen is met opwindtreintjes en tegenwoordig gestuurd wordt door de modernste digitale technieken. De deelnemers aan de beurs zijn echte rashobbyisten. Die kunnen u de fijne kneepjes van de modelspoorhobby bijbrengen. Laat u zich gerust voorlichten over de mogelijkheden die de modelspoorhobby biedt. Men is u graag van dienst.
URL:https://www.railhobby.nl/evenement/treinbeurs-joure/
LOCATION:Party- en zalencentrum ’t Haske\, Vegelinsweg 20\, Joure\, Friesland\, 8501BA\, Nederland
CATEGORIES:Beurs,Evenement
ATTACH;FMTTYPE=image/jpeg:https://www.railhobby.nl/wp-content/uploads/2020/03/joure-1.jpg
END:VEVENT
BEGIN:VEVENT
DTSTART;TZID=Europe/Amsterdam:20200919T100000
DTEND;TZID=Europe/Amsterdam:20200919T150000
DTSTAMP:20260425T041115
CREATED:20200416T140815Z
LAST-MODIFIED:20200416T141214Z
UID:15040-1600509600-1600527600@www.railhobby.nl
SUMMARY:Treinbeurs Joure
DESCRIPTION:In het Friese Joure wordt zes maal per jaar een van de gezelligste treinbeurzen georganiseerd. Op meer dan 100 meter aan tafels\, verdeeld over twee grote zalen\, tonen veel deelnemers een veelzijdig aanbod aan gebruikte en nieuwe modeltreinen. \nOp de beurs kan men snuffelen tussen kramen. Met allerlei treinen en even lekker bijpraten over deze hobby die begonnen is met opwindtreintjes en tegenwoordig gestuurd wordt door de modernste digitale technieken. De deelnemers aan de beurs zijn echte rashobbyisten. Die kunnen u de fijne kneepjes van de modelspoorhobby bijbrengen. Laat u zich gerust voorlichten over de mogelijkheden die de modelspoor-hobby biedt.
URL:https://www.railhobby.nl/evenement/treinbeurs-joure-2/
LOCATION:Party- en zalencentrum ’t Haske\, Vegelinsweg 20\, Joure\, Friesland\, 8501BA\, Nederland
CATEGORIES:Beurs,Evenement
ATTACH;FMTTYPE=image/jpeg:https://www.railhobby.nl/wp-content/uploads/2020/03/joure.jpg
END:VEVENT
END:VCALENDAR