BEGIN:VCALENDAR
VERSION:2.0
PRODID:-//Railhobby - ECPv6.7.0//NONSGML v1.0//EN
CALSCALE:GREGORIAN
METHOD:PUBLISH
X-WR-CALNAME:Railhobby
X-ORIGINAL-URL:https://www.railhobby.nl
X-WR-CALDESC:Evenementen voor Railhobby
REFRESH-INTERVAL;VALUE=DURATION:PT1H
X-Robots-Tag:noindex
X-PUBLISHED-TTL:PT1H
BEGIN:VTIMEZONE
TZID:Europe/Amsterdam
BEGIN:DAYLIGHT
TZOFFSETFROM:+0100
TZOFFSETTO:+0200
TZNAME:CEST
DTSTART:20200329T010000
END:DAYLIGHT
BEGIN:STANDARD
TZOFFSETFROM:+0200
TZOFFSETTO:+0100
TZNAME:CET
DTSTART:20201025T010000
END:STANDARD
END:VTIMEZONE
BEGIN:VEVENT
DTSTART;TZID=Europe/Amsterdam:20201011T100000
DTEND;TZID=Europe/Amsterdam:20201011T150000
DTSTAMP:20260425T123758
CREATED:20200902T123211Z
LAST-MODIFIED:20201006T100211Z
UID:15066-1602410400-1602428400@www.railhobby.nl
SUMMARY:Treinbeurs Koog a/d Zaan (=AFGELAST)
DESCRIPTION:Een van de eerste treinbeurzen die er in Noord-Holland plaatsvond\, was de beurs te Koog aan de Zaan. En zelfs een aantal deelnemers van het eerste uur zijn nog steeds op deze beurs aanwezig. De meesten komen uit de regio\, maar soms komen ze ook van verder weg. \nOp de beurs kan men snuffelen tussen kramen met allerlei treinen en andere spoorzaken\, en even lekker bijpraten over deze oude hobby die begonnen is met opwindtreintjes en tegenwoordig gestuurd wordt door de modernste digitale technieken. \nDe deelnemers aan de beurs zijn echte rashobbyisten en die u de fijne kneepjes van de modelspoorhobby kunnen bijbrengen. Laat u zich gerust voorlichten over de mogelijkheden die de modelspoorhobby biedt. Men is u graag van dienst. \nDe bar is het centrale gedeelte tussen de diverse ruimtes die wij in ‘De Vuister’ benutten. Zo is de ruimte rondom de bar benut voor deelnemerstafels en zijn er doorgangen naar twee kleinere ruimtes en één grote zaal. \n 
URL:https://www.railhobby.nl/evenement/treinbeurs-koog-a-d-zaan/
LOCATION:Buurthuis ‘De Vuister”\, Molenwerf 44\, Koog aan de Zaan\, Noord-Holland\, 1541 WR
CATEGORIES:Beurs,Evenement
ATTACH;FMTTYPE=image/jpeg:https://www.railhobby.nl/wp-content/uploads/2020/03/beursgron02-002-1.jpg
END:VEVENT
END:VCALENDAR