BEGIN:VCALENDAR
VERSION:2.0
PRODID:-//Railhobby - ECPv6.7.0//NONSGML v1.0//EN
CALSCALE:GREGORIAN
METHOD:PUBLISH
X-WR-CALNAME:Railhobby
X-ORIGINAL-URL:https://www.railhobby.nl
X-WR-CALDESC:Evenementen voor Railhobby
REFRESH-INTERVAL;VALUE=DURATION:PT1H
X-Robots-Tag:noindex
X-PUBLISHED-TTL:PT1H
BEGIN:VTIMEZONE
TZID:Europe/Amsterdam
BEGIN:DAYLIGHT
TZOFFSETFROM:+0100
TZOFFSETTO:+0200
TZNAME:CEST
DTSTART:20200329T010000
END:DAYLIGHT
BEGIN:STANDARD
TZOFFSETFROM:+0200
TZOFFSETTO:+0100
TZNAME:CET
DTSTART:20201025T010000
END:STANDARD
BEGIN:DAYLIGHT
TZOFFSETFROM:+0100
TZOFFSETTO:+0200
TZNAME:CEST
DTSTART:20210328T010000
END:DAYLIGHT
BEGIN:STANDARD
TZOFFSETFROM:+0200
TZOFFSETTO:+0100
TZNAME:CET
DTSTART:20211031T010000
END:STANDARD
BEGIN:DAYLIGHT
TZOFFSETFROM:+0100
TZOFFSETTO:+0200
TZNAME:CEST
DTSTART:20220327T010000
END:DAYLIGHT
BEGIN:STANDARD
TZOFFSETFROM:+0200
TZOFFSETTO:+0100
TZNAME:CET
DTSTART:20221030T010000
END:STANDARD
TZID:UTC
BEGIN:STANDARD
TZOFFSETFROM:+0000
TZOFFSETTO:+0000
TZNAME:UTC
DTSTART:20220101T000000
END:STANDARD
END:VTIMEZONE
BEGIN:VEVENT
DTSTART;TZID=Europe/Amsterdam:20221217T100000
DTEND;TZID=Europe/Amsterdam:20221217T160000
DTSTAMP:20260425T014850
CREATED:20220822T124648Z
LAST-MODIFIED:20220822T124648Z
UID:21792-1671271200-1671292800@www.railhobby.nl
SUMMARY:Modelspoorbeurs Zutphen
DESCRIPTION:Modelspoorbeurs Zutphen organiseert op 17 en 18 december 2022 het grootste Internationale Modelspoor evenement in het oosten van het land. Met diverse binnen- en buitenlandse handelaren waar u diverse modelspoortreinen en dergelijke kunt aanschaffen\, of eventueel ruilen. \nTijdens de beurs zijn er ook diverse handelaren die uw oude trein overnemen/innemen\, vraag hiervoor bij de organisatie welke handelaren dit zijn. Ook zijn er dit jaar weer diverse rijdende modelspoorbanen van onder andere verenigingen uit Nederland en België te bewonderen. Daarnaast zijn er ook enkele regionale en nationale modelspoorders uit Zutphen en omgeving die hun modelspoorcreatie aan u tonen en zij staan u graag te woord. \nTijdens Modelspoorbeurs Zutphen kunt u gratis uw gekochte modelspoortrein bij diverse standhouders / hobbyisten laten testen. Verder kunt u diverse workshops volgen waar u uitgebreid kennis kunt maken met meerdere aspecten van de hobby. Tijdens deze beurs is er extra aandacht voor digitalisering van nieuwe maar ook oude modelspoortreinen. \nOp zaterdag en zondag worden iedere dag twee treinsets voor kinderen tot en met 11 jaar verloot.
URL:https://www.railhobby.nl/evenement/modelspoorbeurs-zutphen-6/
LOCATION:Hanzehal\, Fanny Blankers-Koenweg 2\, Zutphen\, 7203AA\, Nederland
CATEGORIES:Beurs,Evenement
ATTACH;FMTTYPE=image/jpeg:https://www.railhobby.nl/wp-content/uploads/2022/08/Poster-Flyer-2022.jpg
ORGANIZER;CN="Modelspoorbeurs Zutphen":MAILTO:info[at]modelspoorbeurszutphen.com
END:VEVENT
BEGIN:VEVENT
DTSTART;TZID=UTC:20220611T100000
DTEND;TZID=UTC:20220612T160000
DTSTAMP:20260425T014850
CREATED:20220607T150943Z
LAST-MODIFIED:20220607T152713Z
UID:21249-1654941600-1655049600@www.railhobby.nl
SUMMARY:Internationale Spur-0 & 1-Treffen
DESCRIPTION:Komende zomer\, op 11 en 12 juni 2022\, komen de vrienden van de grote nulmeter weer samen in de beurshallen van Gießen. Oplettende lezers hebben het al gemerkt: deze keer zijn ook de vrienden van Spoor 1 uitgenodigd. Locatie\, organisator\, organisatie en concept\, alles blijft hetzelfde\, alleen met een niet al te kleine uitbreiding. \nDe tentoonstelling wordt zo ingericht dat liefhebbers van beide schalen gemakkelijk hun weg kunnen vinden. Er is voldoende ruimte gereserveerd voor ontmoetingen en discussies en de vertrouwde en beheersbare sfeer blijft zoveel mogelijk behouden. Er zijn tentoonstellingsfaciliteiten zijn voor beide schalen\, zodat bezoekers ook ideeën voor de gemeenschappelijke modelspoorhobby van de naburige schaal kunnen opdoen. We creëren kansen voor iets nieuws zonder het beproefde op te geven. \nTentoonstellingsboek\nIn het tentoonstellingsboek vindt u alle zaalplattegronden\, alfabetische overzichten van de exposanten per zaal en een volledige lijst. Daarnaast worden de getoonde systemen kort geïntroduceerd. Om u te helpen uw weg te vinden\, is elke stand gemarkeerd met een spoor 0/1 bord. Kijk voor meer informatie en om het boekje te downloaden op www.internationale-spur-0-tage.de  \nKoop vooraf online tickets\nAls u geen zin hebt om in de rij te staan ​​bij het loket\, kunt u vooraf zonder extra kosten tickets reserveren. Hierdoor is het sneller binnenkomen en wordt de wachttijd verkort. \nDagkaart zaterdag of zondag: 16 euro\nWeekendticket beide dagen: 27 euro\nGratis toegang voor kinderen en jongeren onder de 18 jaar \n  \n 
URL:https://www.railhobby.nl/evenement/internationale-spur-0-1-treffen/
LOCATION:Hessenhallen\, An der Hessenhalle 11\, Gießen\, Hessen\, 35398\, Duitsland
CATEGORIES:Beurs,Evenement
ATTACH;FMTTYPE=image/jpeg:https://www.railhobby.nl/wp-content/uploads/2022/06/Spur-0.jpg
ORGANIZER;CN="Lenz Elektronik GmbH":MAILTO:info@lenz-elektronik.de
END:VEVENT
BEGIN:VEVENT
DTSTART;TZID=Europe/Amsterdam:20201128T100000
DTEND;TZID=Europe/Amsterdam:20201128T153000
DTSTAMP:20260425T014850
CREATED:20191217T135732Z
LAST-MODIFIED:20201015T103628Z
UID:12662-1606557600-1606577400@www.railhobby.nl
SUMMARY:De Zeeuwse trein model ruilbeurs (= AFGELAST)
DESCRIPTION:De Zeeuwse trein model ruilbeurs wordt georganiseerd in het congrescentrum ‘De Stenge’. Het congrescentrum beschikt over 200 vrije parkeerplaatsen.\nJe kunt de beurs met openbaar vervoer bezoeken. Neem vanaf station Goes de bus naar gemeentehuis Heinkenszand. \nBEURZEN OPEN: 10.00 uur tot 15.30 uur\nINFORMATIE:     0113-220493\nE-MAIL:               ztmr@zeelandnet.nl
URL:https://www.railhobby.nl/evenement/de-zeeuwse-trein-model-ruilbeurs-6/
CATEGORIES:Beurs,Evenement
ATTACH;FMTTYPE=image/png:https://www.railhobby.nl/wp-content/uploads/2019/12/Ruilbeurs.png
END:VEVENT
BEGIN:VEVENT
DTSTART;TZID=Europe/Amsterdam:20200926T100000
DTEND;TZID=Europe/Amsterdam:20200926T153000
DTSTAMP:20260425T014850
CREATED:20191217T135555Z
LAST-MODIFIED:20200721T092758Z
UID:12660-1601114400-1601134200@www.railhobby.nl
SUMMARY:Zeeuwse trein model ruilbeurs (afgelast)
DESCRIPTION:De Zeeuwse trein model ruilbeurs wordt georganiseerd in het congrescentrum ‘De Stenge’. Het congrescentrum beschikt over 200 vrije parkeerplaatsen.\nJe kunt de beurs met openbaar vervoer bezoeken. Neem vanaf station Goes de bus naar gemeentehuis Heinkenszand. \nBEURZEN OPEN: 10.00 uur tot 15.30 uur\nINFORMATIE:     0113-220493\nE-MAIL:               ztmr@zeelandnet.nl
URL:https://www.railhobby.nl/evenement/zeeuwse-trein-model-ruilbeurs/
LOCATION:Congrescentrum De Stenge\, Stengeplein 1\, Heinkenszand\, 4451 CZ\, Nederland
CATEGORIES:Beurs,Evenement
ATTACH;FMTTYPE=image/png:https://www.railhobby.nl/wp-content/uploads/2019/12/Ruilbeurs.png
END:VEVENT
BEGIN:VEVENT
DTSTART;TZID=Europe/Amsterdam:20200314T100000
DTEND;TZID=Europe/Amsterdam:20200314T153000
DTSTAMP:20260425T014850
CREATED:20191217T135234Z
LAST-MODIFIED:20191217T135319Z
UID:12656-1584180000-1584199800@www.railhobby.nl
SUMMARY:Zeeuwse trein model ruilbeurs
DESCRIPTION:De Zeeuwse trein model ruilbeurs wordt georganiseerd in het congrescentrum ‘De Stenge’. Het congrescentrum beschikt over 200 vrije parkeerplaatsen.\nJe kunt de beurs met openbaar vervoer bezoeken. Neem vanaf station Goes de bus naar gemeentehuis Heinkenszand. \nBEURZEN OPEN: 10.00 uur tot 15.30 uur\nINFORMATIE:     0113-220493\nE-MAIL:               ztmr@zeelandnet.nl
URL:https://www.railhobby.nl/evenement/12656/
LOCATION:Congrescentrum De Stenge\, Stengeplein 1\, Heinkenszand\, 4451 CZ\, Nederland
CATEGORIES:Beurs,Evenement
ATTACH;FMTTYPE=image/png:https://www.railhobby.nl/wp-content/uploads/2019/12/Ruilbeurs.png
END:VEVENT
END:VCALENDAR