BEGIN:VCALENDAR
VERSION:2.0
PRODID:-//Railhobby - ECPv6.7.0//NONSGML v1.0//EN
CALSCALE:GREGORIAN
METHOD:PUBLISH
X-ORIGINAL-URL:https://www.railhobby.nl
X-WR-CALDESC:Evenementen voor Railhobby
REFRESH-INTERVAL;VALUE=DURATION:PT1H
X-Robots-Tag:noindex
X-PUBLISHED-TTL:PT1H
BEGIN:VTIMEZONE
TZID:Europe/Amsterdam
BEGIN:DAYLIGHT
TZOFFSETFROM:+0100
TZOFFSETTO:+0200
TZNAME:CEST
DTSTART:20240331T010000
END:DAYLIGHT
BEGIN:STANDARD
TZOFFSETFROM:+0200
TZOFFSETTO:+0100
TZNAME:CET
DTSTART:20241027T010000
END:STANDARD
END:VTIMEZONE
BEGIN:VEVENT
DTSTART;TZID=Europe/Amsterdam:20240324T110000
DTEND;TZID=Europe/Amsterdam:20240324T160000
DTSTAMP:20260425T013454
CREATED:20231214T132451Z
LAST-MODIFIED:20240314T094742Z
UID:25170-1711278000-1711296000@www.railhobby.nl
SUMMARY:Open dag Amsterdamse Modelbouw Club
DESCRIPTION:Op zondag 24 maart 2024 organiseert de AMC haar jaarlijkse open dag. De drie modelbanen: de digitale hoofdbaan Amsterdam e.o.\, de analoge Zwitserse baan HOm en de analoge baan Weesperpoort\, zullen in bedrijf zijn. Het evenement vind plaats op zolder 2 van het Hotel de Rijper Eilanden. \nDe locatie is met openbaar vervoer bereikbaar met EBS bus 305. Deze vertrekt 1 keer per uur vanaf Amsterdam Noord. De zolder 2 is via de loopbrug te bereiken en is toegankelijk met de lift tot 2de verdieping. Daarna volgt een korte trap naar de zolder.\nParkeren op het terrein van het hotel is\, evenals de toegang\, gratis.
URL:https://www.railhobby.nl/evenement/open-dag-amsterdamse-modelbouw-club/
LOCATION:Hotel De Rijper Eilanden\, Zuiddijk 2a\, De Rijp\, Noord-Holland\, 1483 MA
CATEGORIES:Beurs,Evenement
ATTACH;FMTTYPE=image/jpeg:https://www.railhobby.nl/wp-content/uploads/2023/12/20231213_211603-p.jpg
ORGANIZER;CN="Amsterdamse Modelbouw Club":MAILTO:info@amclub.co.nl
END:VEVENT
END:VCALENDAR