BEGIN:VCALENDAR
VERSION:2.0
PRODID:-//Railhobby - ECPv6.7.0//NONSGML v1.0//EN
CALSCALE:GREGORIAN
METHOD:PUBLISH
X-WR-CALNAME:Railhobby
X-ORIGINAL-URL:https://www.railhobby.nl
X-WR-CALDESC:Evenementen voor Railhobby
REFRESH-INTERVAL;VALUE=DURATION:PT1H
X-Robots-Tag:noindex
X-PUBLISHED-TTL:PT1H
BEGIN:VTIMEZONE
TZID:Europe/Amsterdam
BEGIN:DAYLIGHT
TZOFFSETFROM:+0100
TZOFFSETTO:+0200
TZNAME:CEST
DTSTART:20240331T010000
END:DAYLIGHT
BEGIN:STANDARD
TZOFFSETFROM:+0200
TZOFFSETTO:+0100
TZNAME:CET
DTSTART:20241027T010000
END:STANDARD
BEGIN:DAYLIGHT
TZOFFSETFROM:+0100
TZOFFSETTO:+0200
TZNAME:CEST
DTSTART:20250330T010000
END:DAYLIGHT
BEGIN:STANDARD
TZOFFSETFROM:+0200
TZOFFSETTO:+0100
TZNAME:CET
DTSTART:20251026T010000
END:STANDARD
END:VTIMEZONE
BEGIN:VEVENT
DTSTART;TZID=Europe/Amsterdam:20250524T000000
DTEND;TZID=Europe/Amsterdam:20250525T000000
DTSTAMP:20260425T012055
CREATED:20250213T103610Z
LAST-MODIFIED:20250213T104806Z
UID:27617-1748044800-1748131200@www.railhobby.nl
SUMMARY:NZH hobbyclub open huis
DESCRIPTION:Op 24 en 25 mei organiseert NZH hobbyclub een open huis.
URL:https://www.railhobby.nl/evenement/nzh-hobbyclub-open-huis/
LOCATION:NZH Hobbyclub\, Waarderweg 78\, Haarlem\, Noord-Holland\, 2031 BP
CATEGORIES:Open dag
ORGANIZER;CN="NZH Hobbyclub":MAILTO:secretaris@stichtingmek.nl
END:VEVENT
BEGIN:VEVENT
DTSTART;TZID=Europe/Amsterdam:20240316T100000
DTEND;TZID=Europe/Amsterdam:20240317T160000
DTSTAMP:20260425T012055
CREATED:20240228T135453Z
LAST-MODIFIED:20240313T160502Z
UID:25680-1710583200-1710691200@www.railhobby.nl
SUMMARY:Open Huis bij Baroniespoor
DESCRIPTION:Baroniespoor laat zien dat modelspoor vele facetten kent. Een grote baan met het oude station van Breda rond 1925 in schaal H0\, in schaal H0m een Zwitserlandbaan\, in schaal N en in schaal Z een fantasiebaan. Ook wordt hard gewerkt aan een grote baan in schaal N\, hier kun je nu goed de techniek zien\, die nodig is om een trein te laten rijden. \nJe hoeft niet alleen te kijken\, er is een rangeerbaan opgesteld\, daar kan je zelf rangeren\, als je dat met succes doet\, krijg je een rangeerdiploma. Ook aan de jongere onder ons is gedacht met een speelkleed met houten treintjes en ben je wat ouder\, een baantje waarop jezelf de trein kan besturen. \nHeb je nog een trein thuis liggen? Neem deze mee\, tijdens deze dagen kun je die op een van de banen laten rijden. Mocht deze het niet meer doen\, er is een treinendokter. \nWe willen je laten zien\, dat modelspoor niet alleen het rondrijden van treinen is\, maar ook het zoeken naar bouwtekeningen\, het bouwen van huizen\, bruggen\, het automatiseren van verlichting\, openen en sluiten van bruggen\, slagbomen\, etc. \nDe toegang is gratis.
URL:https://www.railhobby.nl/evenement/open-huis-bij-baroniespoor/
LOCATION:Loods 11\, Penningweg 11\, Etten-Leur\, Noord-Brabant\, 4879 AE\, Nederland
CATEGORIES:Evenement,Open dag
ATTACH;FMTTYPE=image/jpeg:https://www.railhobby.nl/wp-content/uploads/2024/02/Spoorbrug-over-de-Mark-resize.jpg
ORGANIZER;CN="Baroniespoor":MAILTO:msv@baroniespoor.nl
END:VEVENT
END:VCALENDAR