BEGIN:VCALENDAR
VERSION:2.0
PRODID:-//Railhobby - ECPv6.7.0//NONSGML v1.0//EN
CALSCALE:GREGORIAN
METHOD:PUBLISH
X-WR-CALNAME:Railhobby
X-ORIGINAL-URL:https://www.railhobby.nl
X-WR-CALDESC:Evenementen voor Railhobby
REFRESH-INTERVAL;VALUE=DURATION:PT1H
X-Robots-Tag:noindex
X-PUBLISHED-TTL:PT1H
BEGIN:VTIMEZONE
TZID:Europe/Amsterdam
BEGIN:DAYLIGHT
TZOFFSETFROM:+0100
TZOFFSETTO:+0200
TZNAME:CEST
DTSTART:20190331T010000
END:DAYLIGHT
BEGIN:STANDARD
TZOFFSETFROM:+0200
TZOFFSETTO:+0100
TZNAME:CET
DTSTART:20191027T010000
END:STANDARD
END:VTIMEZONE
BEGIN:VEVENT
DTSTART;TZID=Europe/Amsterdam:20190622T090000
DTEND;TZID=Europe/Amsterdam:20190622T170000
DTSTAMP:20260425T151503
CREATED:20181129T130741Z
LAST-MODIFIED:20181129T130741Z
UID:9909-1561194000-1561222800@www.railhobby.nl
SUMMARY:Open dag Piko
DESCRIPTION:Op 22 juni is er voor de elfde keer een open dag bij Piko\, van 09:00-17:00 uur. Een evenement voor modelspoorliefhebbers van over de hele wereld. In 2019 wordt tijdens deze open dag ook het 70-jarig jubileum van PIKO gevierd. Fans van het merk PIKO zijn welkom in het hoofdkantoor in Sonneberg. \nErvaar het brede assortiment van producten op de vier schalen G\, H0\, TT en N\, kijk over de schouders van de medewerkers in de G-schaalproductie. Ter gelegenheid van deze open dag zijn er speciale editie-modellen en scherp geprijsde producten aan te schaffen. \nPIKO zet historische treinen in die u vanaf verschillende locaties naar het hoofdkantoor vervoeren. Natuurlijk kunt u ook een “reguliere” trein nemen. Er zal een pendeldienst zijn van het treinstation Sonneberg naar PIKO brengt. Voor gasten die met de auto komen\, zijn er voldoende parkeerplaatsen \nPIKO open dag\nLutherstrasse 30\nSonneberg\, Thüringen 96515\nDuitsland
URL:https://www.railhobby.nl/evenement/open-dag-piko/
CATEGORIES:Evenement
ATTACH;FMTTYPE=image/gif:https://www.railhobby.nl/wp-content/uploads/2018/11/logo_piko.gif
END:VEVENT
END:VCALENDAR