BEGIN:VCALENDAR
VERSION:2.0
PRODID:-//Railhobby - ECPv6.7.0//NONSGML v1.0//EN
CALSCALE:GREGORIAN
METHOD:PUBLISH
X-ORIGINAL-URL:https://www.railhobby.nl
X-WR-CALDESC:Evenementen voor Railhobby
REFRESH-INTERVAL;VALUE=DURATION:PT1H
X-Robots-Tag:noindex
X-PUBLISHED-TTL:PT1H
BEGIN:VTIMEZONE
TZID:Europe/Amsterdam
BEGIN:DAYLIGHT
TZOFFSETFROM:+0100
TZOFFSETTO:+0200
TZNAME:CEST
DTSTART:20240331T010000
END:DAYLIGHT
BEGIN:STANDARD
TZOFFSETFROM:+0200
TZOFFSETTO:+0100
TZNAME:CET
DTSTART:20241027T010000
END:STANDARD
END:VTIMEZONE
BEGIN:VEVENT
DTSTART;TZID=Europe/Amsterdam:20240406T100000
DTEND;TZID=Europe/Amsterdam:20240407T160000
DTSTAMP:20260425T003350
CREATED:20240226T094239Z
LAST-MODIFIED:20240321T100637Z
UID:25659-1712397600-1712505600@www.railhobby.nl
SUMMARY:Open dagen RAILKONTAKT modelspoorgroep Zevenbergen
DESCRIPTION:Zevenbergen in het klein (H0) en Lage Zwaluwe (N). \nIn het ketelhuis van de oude suikerfabriek\, toegang gratis. \nZondag 7 april vanaf 11:00.
URL:https://www.railhobby.nl/evenement/open-dagen-railkontakt-modelspoorgroep-zevenbergen/
LOCATION:Railkontakt\, Blokweg 15\, Zevenbergen\, Noord-Brabant\, 4761RC\, Nederland
CATEGORIES:Beurs,Evenement,Open dag
ORGANIZER;CN="Railkontakt":MAILTO:secretaris@railkontakt.nl
END:VEVENT
END:VCALENDAR