BEGIN:VCALENDAR
VERSION:2.0
PRODID:-//Railhobby - ECPv6.7.0//NONSGML v1.0//EN
CALSCALE:GREGORIAN
METHOD:PUBLISH
X-WR-CALNAME:Railhobby
X-ORIGINAL-URL:https://www.railhobby.nl
X-WR-CALDESC:Evenementen voor Railhobby
REFRESH-INTERVAL;VALUE=DURATION:PT1H
X-Robots-Tag:noindex
X-PUBLISHED-TTL:PT1H
BEGIN:VTIMEZONE
TZID:Europe/Amsterdam
BEGIN:DAYLIGHT
TZOFFSETFROM:+0100
TZOFFSETTO:+0200
TZNAME:CEST
DTSTART:20240331T010000
END:DAYLIGHT
BEGIN:STANDARD
TZOFFSETFROM:+0200
TZOFFSETTO:+0100
TZNAME:CET
DTSTART:20241027T010000
END:STANDARD
END:VTIMEZONE
BEGIN:VEVENT
DTSTART;TZID=Europe/Amsterdam:20240323T130000
DTEND;TZID=Europe/Amsterdam:20240324T160000
DTSTAMP:20260425T054227
CREATED:20240229T104737Z
LAST-MODIFIED:20240314T093231Z
UID:25686-1711198800-1711296000@www.railhobby.nl
SUMMARY:Open Dagen ModelSpoorClub Maas en Waal
DESCRIPTION:ModelSpoorClub Maas en Waal houdt open dagen op zaterdag 23 en zondag 24 maart. Iedereen\, jong en oud\, meisjes en jongens\, kan op deze dagen kennis komen maken met de modelspoorhobby en zien wat de leden van de club doen. Er staat een echte spoorkraan op het buitenterrein. \nVoor bezoekers is er dit weekend van alles te doen. Er is een grote LEGO treinbaan opgesteld en er zijn diverse treinmodellen te koop bij de occassionmarkt. Bij de treinendokter kan men terecht wanneer men thuis een defecte trein heeft liggen of met andere vragen omtrent de modelspoorhobby. Ook kinderen kunnen dit weekend hun hart ophalen; zij kunnen onder meer een rangeerdiploma behalen en deelnemen aan een speurtocht. Misschien spot jij wel Thomas de trein? Volwassenen kunnen eveneens een poging wagen om te rangeren. \nHet Modelspoorweekend vindt plaats in het nieuwe clubgebouw aan de Expeditieweg 8-12 in Boven-Leeuwen. Gratis toegang voor alle bezoekers. \nDe deuren zijn geopend op zaterdag van 13.00 tot 16.00 uur en op zondag van 10.00 tot 16.00 uur. Meer informatie: www.mscmaasenwaal.nl.
URL:https://www.railhobby.nl/evenement/open-dagen-modelspoorclub-maas-en-waal/
LOCATION:Modelspoorclub Maas en Waal\, Expeditieweg 8-12\, Boven - Leeuwen\, Gelderland\, 6657KL\, Nederland
CATEGORIES:Beurs,Evenement,Open dag
ATTACH;FMTTYPE=image/jpeg:https://www.railhobby.nl/wp-content/uploads/2024/02/MscLogo200x200.jpg
ORGANIZER;CN="Modelspoorclub Maas en Waal":MAILTO:info@mscmaasenwaal.nl
END:VEVENT
END:VCALENDAR