BEGIN:VCALENDAR
VERSION:2.0
PRODID:-//Railhobby - ECPv6.7.0//NONSGML v1.0//EN
CALSCALE:GREGORIAN
METHOD:PUBLISH
X-ORIGINAL-URL:https://www.railhobby.nl
X-WR-CALDESC:Evenementen voor Railhobby
REFRESH-INTERVAL;VALUE=DURATION:PT1H
X-Robots-Tag:noindex
X-PUBLISHED-TTL:PT1H
BEGIN:VTIMEZONE
TZID:Europe/Amsterdam
BEGIN:DAYLIGHT
TZOFFSETFROM:+0100
TZOFFSETTO:+0200
TZNAME:CEST
DTSTART:20180325T010000
END:DAYLIGHT
BEGIN:STANDARD
TZOFFSETFROM:+0200
TZOFFSETTO:+0100
TZNAME:CET
DTSTART:20181028T010000
END:STANDARD
END:VTIMEZONE
BEGIN:VEVENT
DTSTART;TZID=Europe/Amsterdam:20180519T110000
DTEND;TZID=Europe/Amsterdam:20180519T170000
DTSTAMP:20260425T165108
CREATED:20180321T152511Z
LAST-MODIFIED:20180328T115808Z
UID:7280-1526727600-1526749200@www.railhobby.nl
SUMMARY:Live Speelgoedveiling
DESCRIPTION:Zaterdag 19 mei vindt er weer een live speelgoedveiling in Brummen plaats. Tijdens deze veiling is er een grote diversiteit aan oud speelgoed\, waaronder model-auto’s en treinen.
URL:https://www.railhobby.nl/evenement/live-speelgoedveiling-2/
LOCATION:Veilinghuis Bouwman & Bouwman\, Saturnusweg 6a\, Brummen\, 6971 GX\, Nederland
CATEGORIES:Evenement
ATTACH;FMTTYPE=image/jpeg:https://www.railhobby.nl/wp-content/uploads/2018/03/Live-speelgoedveiling-1.jpg
END:VEVENT
END:VCALENDAR