BEGIN:VCALENDAR
VERSION:2.0
PRODID:-//Railhobby - ECPv6.7.0//NONSGML v1.0//EN
CALSCALE:GREGORIAN
METHOD:PUBLISH
X-WR-CALNAME:Railhobby
X-ORIGINAL-URL:https://www.railhobby.nl
X-WR-CALDESC:Evenementen voor Railhobby
REFRESH-INTERVAL;VALUE=DURATION:PT1H
X-Robots-Tag:noindex
X-PUBLISHED-TTL:PT1H
BEGIN:VTIMEZONE
TZID:Europe/Amsterdam
BEGIN:DAYLIGHT
TZOFFSETFROM:+0100
TZOFFSETTO:+0200
TZNAME:CEST
DTSTART:20190331T010000
END:DAYLIGHT
BEGIN:STANDARD
TZOFFSETFROM:+0200
TZOFFSETTO:+0100
TZNAME:CET
DTSTART:20191027T010000
END:STANDARD
END:VTIMEZONE
BEGIN:VEVENT
DTSTART;TZID=Europe/Amsterdam:20191130T100000
DTEND;TZID=Europe/Amsterdam:20191130T160000
DTSTAMP:20260425T055041
CREATED:20190923T113752Z
LAST-MODIFIED:20190923T113944Z
UID:11179-1575108000-1575129600@www.railhobby.nl
SUMMARY:Tag der Modellbahn
DESCRIPTION:Op zaterdag 30 november van tien tot vier kunt u in het Parkstübchen in Nettetal-Hinsbeck (vlakbij Venlo) terecht voor de Tag der Modellbahn. Het thema is TT spoor van vroeger en nu. Deze beurs wordt georganiseerd door ROKAL Freunde Lobberich. \nEr wordt een breed palet aan modellen getoond en er zullen allerlei TT treinen rijden! Zowel ROKAL als ook het Britse Triang TT en de moderne TT in schaal 1:120. \nEr is een zithoek om gezellig te kletsen onder genot van een kop koffie en verkoop van reserve-onderdelen. \nEr is voldoende gratis parkeergelegenheid en de toegang is kosteloos. \n 
URL:https://www.railhobby.nl/evenement/tag-der-modellbahn/
LOCATION:Parkstübchen\, Parkstraße 13\, Nettetal-Hinsbeck\, 41334\, Duitsland
CATEGORIES:Beurs,Evenement
ATTACH;FMTTYPE=image/jpeg:https://www.railhobby.nl/wp-content/uploads/2019/09/rokal-2.jpg
ORGANIZER;CN="ROKAL Freunde Lobberich":MAILTO:rokal@home.nl
END:VEVENT
END:VCALENDAR