BEGIN:VCALENDAR
VERSION:2.0
PRODID:-//Railhobby - ECPv6.7.0//NONSGML v1.0//EN
CALSCALE:GREGORIAN
METHOD:PUBLISH
X-ORIGINAL-URL:https://www.railhobby.nl
X-WR-CALDESC:Evenementen voor Railhobby
REFRESH-INTERVAL;VALUE=DURATION:PT1H
X-Robots-Tag:noindex
X-PUBLISHED-TTL:PT1H
BEGIN:VTIMEZONE
TZID:Europe/Amsterdam
BEGIN:DAYLIGHT
TZOFFSETFROM:+0100
TZOFFSETTO:+0200
TZNAME:CEST
DTSTART:20180325T010000
END:DAYLIGHT
BEGIN:STANDARD
TZOFFSETFROM:+0200
TZOFFSETTO:+0100
TZNAME:CET
DTSTART:20181028T010000
END:STANDARD
BEGIN:DAYLIGHT
TZOFFSETFROM:+0100
TZOFFSETTO:+0200
TZNAME:CEST
DTSTART:20190331T010000
END:DAYLIGHT
BEGIN:STANDARD
TZOFFSETFROM:+0200
TZOFFSETTO:+0100
TZNAME:CET
DTSTART:20191027T010000
END:STANDARD
BEGIN:DAYLIGHT
TZOFFSETFROM:+0100
TZOFFSETTO:+0200
TZNAME:CEST
DTSTART:20200329T010000
END:DAYLIGHT
BEGIN:STANDARD
TZOFFSETFROM:+0200
TZOFFSETTO:+0100
TZNAME:CET
DTSTART:20201025T010000
END:STANDARD
BEGIN:DAYLIGHT
TZOFFSETFROM:+0100
TZOFFSETTO:+0200
TZNAME:CEST
DTSTART:20210328T010000
END:DAYLIGHT
BEGIN:STANDARD
TZOFFSETFROM:+0200
TZOFFSETTO:+0100
TZNAME:CET
DTSTART:20211031T010000
END:STANDARD
BEGIN:DAYLIGHT
TZOFFSETFROM:+0100
TZOFFSETTO:+0200
TZNAME:CEST
DTSTART:20220327T010000
END:DAYLIGHT
BEGIN:STANDARD
TZOFFSETFROM:+0200
TZOFFSETTO:+0100
TZNAME:CET
DTSTART:20221030T010000
END:STANDARD
BEGIN:DAYLIGHT
TZOFFSETFROM:+0100
TZOFFSETTO:+0200
TZNAME:CEST
DTSTART:20230326T010000
END:DAYLIGHT
BEGIN:STANDARD
TZOFFSETFROM:+0200
TZOFFSETTO:+0100
TZNAME:CET
DTSTART:20231029T010000
END:STANDARD
BEGIN:DAYLIGHT
TZOFFSETFROM:+0100
TZOFFSETTO:+0200
TZNAME:CEST
DTSTART:20240331T010000
END:DAYLIGHT
BEGIN:STANDARD
TZOFFSETFROM:+0200
TZOFFSETTO:+0100
TZNAME:CET
DTSTART:20241027T010000
END:STANDARD
BEGIN:DAYLIGHT
TZOFFSETFROM:+0100
TZOFFSETTO:+0200
TZNAME:CEST
DTSTART:20250330T010000
END:DAYLIGHT
BEGIN:STANDARD
TZOFFSETFROM:+0200
TZOFFSETTO:+0100
TZNAME:CET
DTSTART:20251026T010000
END:STANDARD
END:VTIMEZONE
BEGIN:VEVENT
DTSTART;TZID=Europe/Amsterdam:20250426T130000
DTEND;TZID=Europe/Amsterdam:20250504T170000
DTSTAMP:20260425T055039
CREATED:20250213T105642Z
LAST-MODIFIED:20250213T105642Z
UID:27625-1745672400-1746378000@www.railhobby.nl
SUMMARY:Tentoonstelling Klok & Peel
DESCRIPTION:Op de dagen 26 april tot en met 4 mei 2025 staat Modelspoorclub Oost Brabant op de Grote Kleine Treinen Wereld in het museum Klok & Peel met hun modelbanen in de Oranjerie. Za\, Zo en Ma van 13:00u tot 17:00u. Di tot Vr van 12:00u tot 17:00u. \nJong en oud is welkom om te genieten van de modelbanen en te zien hoe Deurne er in de jaren 60 er uit zag. Hoe de turfstekers zoals afgebeeld in het museum toen leefden. In welke barre omstandigheden. \nVerder is nieuw voor de kinderen een heus Speelpaleis. Kinderen hebben dan de mogelijkheid om zelf aan de knoppen te zitten. Of een baan op te bouwen. Te knutselen of een rangeeropdracht uitvoeren. Ben je geslaagd dan krijg je een rangeerdiploma. \nOok is er een quiz. \nKom je ook? Gezellig. \nNationaal Museum Klok & Peel\nOstaderstraat 23\n5721 WC Asten
URL:https://www.railhobby.nl/evenement/tentoonstelling-klok-peel/
LOCATION:museum Klok & Peel\, Ostaderstraat 23\, Asten\, 5721 WC\, Netherlands
CATEGORIES:Evenement
END:VEVENT
BEGIN:VEVENT
DTSTART;TZID=Europe/Amsterdam:20250213T080000
DTEND;TZID=Europe/Amsterdam:20250213T170000
DTSTAMP:20260425T055039
CREATED:20250213T110321Z
LAST-MODIFIED:20250213T110321Z
UID:27628-1739433600-1739466000@www.railhobby.nl
SUMMARY:De wereld van Kerst in Beek en Donk
DESCRIPTION:Op de dagen 18 oktober tot en met 26 oktober 2025 staat Modelspoorclub Oost Brabant op de Wereld van Kerst in het tuincentrum de Biezen met onze modelbanen in de winkel. Za\, Zo en Ma van 13:00u tot 17:00u. Di tot Vr van 12:00u tot 17:00u. \nJong en oud is welkom om te genieten van de modelbanen en te zien hoe Deurne er in de jaren 60 er uit zag. Hoe de turfstekers zoals afgebeeld in het museum toen leefden. In welke barre omstandigheden. \nVerder is nieuw voor de kinderen een heus Speelpaleis. Kinderen hebben dan de mogelijkheid om zelf aan de knoppen te zitten. Of een baan op te bouwen. Te knutselen of een rangeeropdracht uitvoeren. Ben je geslaagd dan krijg je een rangeerdiploma. \nKom je ook? Gezellig. \nBiezen Tuincentrum\nBiezenweg 2A\n5741 SB Beek en Donk
URL:https://www.railhobby.nl/evenement/de-wereld-van-kerst-in-beek-en-donk/
LOCATION:Biezen Tuincentrum\, Biezenweg 2A\, Beek en Donk\, 5741 SB\, Netherlands
CATEGORIES:Evenement
END:VEVENT
BEGIN:VEVENT
DTSTART;TZID=Europe/Amsterdam:20181002T080000
DTEND;TZID=Europe/Amsterdam:20181031T170000
DTSTAMP:20260425T055039
CREATED:20180925T113437Z
LAST-MODIFIED:20180925T113437Z
UID:9558-1538467200-1541005200@www.railhobby.nl
SUMMARY:Nationaal Modelspoor Museum Sneek
DESCRIPTION:“De kinderen van Versteeg moeten allen onder de wol”\, luidde in september 1944 de codeboodschap van Radio Oranje. Dit was de geheime stakingsoproep voor het personeel van de Nederlandse Spoorwegen. De staking duurde tot de bevrijding in mei 1945. \nDe maand oktober is de landelijke “Maand van de geschiedenis” met als thema verzet. Het Nationaal Modelspoor museum in Sneek is ook landelijke deelnemer en heeft een unieke expositie ingericht\, te zien vanaf 2 oktober. Op indringende wijze is de donkere periode van 1940 tot 1947 te zien. Van de Duitse inval\, de Slag om Arnhem tot en met de wederopbouw van het spoorwegnet. Centraal staat de grote spoorwegstaking van 1944. \nBord voedseltrein\nDe expositie bevat bijzondere verzamelingen en collecties van het Spoorwegmuseum uit Utrecht en Aviodrome\, het ‘1940-1945 Memorial Museum’ en particulieren. Diverse topmodelbouwers hebben diorama’s en modellen gebouwd. Naast treinen\, vliegtuigen en de diverse diorama’s is er een antieke radio\, waarop minister-president Gerbrandy is te horen. Verder draait er een bijzondere film over die donkere periode. Een van de vele topstukken van de tentoonstelling is het originele bord\, dat op de voedseltreinen van het Rode Kruis zat. Want de staking had grote gevolgen voor de voedselvoorziening in Nederland. \nDeze eenmalige tentoonstelling is alleen in de maand oktober te zien (vanaf 2 oktober). Van dinsdag t/m vrijdag en zondag is het museum geopend van 13 tot 17 uur en op zaterdag van 10 tot 17 uur. Het Nationaal Modelspoor museum zit in het station van Sneek en is goed bereikbaar met de auto\, bus en trein. \nAlle informatie is ook op www.modelspoormuseum.nl te vinden. \nFotobijschrift: Bord voedseltrein | Foto: Janna Blom Fotografie
URL:https://www.railhobby.nl/evenement/nationaal-modelspoor-museum-sneek/
CATEGORIES:Evenement
ATTACH;FMTTYPE=image/jpeg:https://www.railhobby.nl/wp-content/uploads/2018/09/Janna-Blom-1.jpg
END:VEVENT
END:VCALENDAR